BEGIN:VCALENDAR
VERSION:2.0
PRODID:-//Die Gaesdonck - ECPv6.15.20//NONSGML v1.0//EN
CALSCALE:GREGORIAN
METHOD:PUBLISH
X-WR-CALNAME:Die Gaesdonck
X-ORIGINAL-URL:https://www.gaesdonck.de
X-WR-CALDESC:Veranstaltungen für Die Gaesdonck
REFRESH-INTERVAL;VALUE=DURATION:PT1H
X-Robots-Tag:noindex
X-PUBLISHED-TTL:PT1H
BEGIN:VTIMEZONE
TZID:Europe/Berlin
BEGIN:DAYLIGHT
TZOFFSETFROM:+0100
TZOFFSETTO:+0200
TZNAME:CEST
DTSTART:20240331T010000
END:DAYLIGHT
BEGIN:STANDARD
TZOFFSETFROM:+0200
TZOFFSETTO:+0100
TZNAME:CET
DTSTART:20241027T010000
END:STANDARD
BEGIN:DAYLIGHT
TZOFFSETFROM:+0100
TZOFFSETTO:+0200
TZNAME:CEST
DTSTART:20250330T010000
END:DAYLIGHT
BEGIN:STANDARD
TZOFFSETFROM:+0200
TZOFFSETTO:+0100
TZNAME:CET
DTSTART:20251026T010000
END:STANDARD
BEGIN:DAYLIGHT
TZOFFSETFROM:+0100
TZOFFSETTO:+0200
TZNAME:CEST
DTSTART:20260329T010000
END:DAYLIGHT
BEGIN:STANDARD
TZOFFSETFROM:+0200
TZOFFSETTO:+0100
TZNAME:CET
DTSTART:20261025T010000
END:STANDARD
END:VTIMEZONE
BEGIN:VEVENT
DTSTART;VALUE=DATE:20251003
DTEND;VALUE=DATE:20251004
DTSTAMP:20260423T015308
CREATED:20250819T150010Z
LAST-MODIFIED:20250819T150010Z
UID:10002367-1759449600-1759535999@www.gaesdonck.de
SUMMARY:Tag der Deutschen Einheit
DESCRIPTION:
URL:https://www.gaesdonck.de/event/tag-der-deutschen-einheit/
LOCATION:Die Gaesdonck\, Gaesdoncker Straße 220\, Goch\, 47574\, Germany
END:VEVENT
BEGIN:VEVENT
DTSTART;VALUE=DATE:20251004
DTEND;VALUE=DATE:20251006
DTSTAMP:20260423T015308
CREATED:20250819T144354Z
LAST-MODIFIED:20250819T144354Z
UID:10002356-1759536000-1759708799@www.gaesdonck.de
SUMMARY:Freies Wochenende
DESCRIPTION:
URL:https://www.gaesdonck.de/event/freies-wochenende-3/
LOCATION:Die Gaesdonck\, Gaesdoncker Straße 220\, Goch\, 47574\, Germany
END:VEVENT
BEGIN:VEVENT
DTSTART;TZID=Europe/Berlin:20251008T150000
DTEND;TZID=Europe/Berlin:20251008T170000
DTSTAMP:20260423T015308
CREATED:20250819T145532Z
LAST-MODIFIED:20250819T145532Z
UID:10002363-1759935600-1759942800@www.gaesdonck.de
SUMMARY:Offene Sprechstunde der Schulleitung
DESCRIPTION:
URL:https://www.gaesdonck.de/event/offene-sprechstunde-der-schulleitung-8/
LOCATION:Die Gaesdonck\, Gaesdoncker Straße 220\, Goch\, 47574\, Germany
END:VEVENT
BEGIN:VEVENT
DTSTART;TZID=Europe/Berlin:20251010T140000
DTEND;TZID=Europe/Berlin:20251010T160000
DTSTAMP:20260423T015308
CREATED:20250904T130517Z
LAST-MODIFIED:20250904T130517Z
UID:10002387-1760104800-1760112000@www.gaesdonck.de
SUMMARY:Kunstschule "Forschen und Gestalten" sowie "Bildhauerei"
DESCRIPTION:
URL:https://www.gaesdonck.de/event/kunstschule-forschen-und-gestalten-sowie-bildhauerei-2/
LOCATION:Die Gaesdonck\, Gaesdoncker Straße 220\, Goch\, 47574\, Germany
END:VEVENT
BEGIN:VEVENT
DTSTART;VALUE=DATE:20251011
DTEND;VALUE=DATE:20251012
DTSTAMP:20260423T015308
CREATED:20250819T150051Z
LAST-MODIFIED:20250819T150051Z
UID:10002368-1760140800-1760227199@www.gaesdonck.de
SUMMARY:Beginn der Herbstferien
DESCRIPTION:
URL:https://www.gaesdonck.de/event/beginn-der-herbstferien-2/
LOCATION:Die Gaesdonck\, Gaesdoncker Straße 220\, Goch\, 47574\, Germany
END:VEVENT
BEGIN:VEVENT
DTSTART;TZID=Europe/Berlin:20251030T170000
DTEND;TZID=Europe/Berlin:20251030T183000
DTSTAMP:20260423T015308
CREATED:20250904T145443Z
LAST-MODIFIED:20250904T151225Z
UID:10002405-1761843600-1761849000@www.gaesdonck.de
SUMMARY:DPSG Truppstunde 8er und 9er
DESCRIPTION:
URL:https://www.gaesdonck.de/event/dpsg-truppstunde-8er-und-9er-2/
LOCATION:Die Gaesdonck\, Gaesdoncker Straße 220\, Goch\, 47574\, Germany
END:VEVENT
BEGIN:VEVENT
DTSTART;TZID=Europe/Berlin:20251031T140000
DTEND;TZID=Europe/Berlin:20251031T153000
DTSTAMP:20260423T015308
CREATED:20250904T150029Z
LAST-MODIFIED:20250904T150029Z
UID:10002410-1761919200-1761924600@www.gaesdonck.de
SUMMARY:DPSG Truppstunde 5er bis 7er
DESCRIPTION:
URL:https://www.gaesdonck.de/event/dpsg-truppstunde-5er-bis-7er-2/
LOCATION:Die Gaesdonck\, Gaesdoncker Straße 220\, Goch\, 47574\, Germany
END:VEVENT
BEGIN:VEVENT
DTSTART;TZID=Europe/Berlin:20251031T140000
DTEND;TZID=Europe/Berlin:20251031T160000
DTSTAMP:20260423T015308
CREATED:20250904T130619Z
LAST-MODIFIED:20250904T130619Z
UID:10002388-1761919200-1761926400@www.gaesdonck.de
SUMMARY:Kunstschule "Forschen und Gestalten" sowie "Bildhauerei"
DESCRIPTION:
URL:https://www.gaesdonck.de/event/kunstschule-forschen-und-gestalten-sowie-bildhauerei-3/
LOCATION:Die Gaesdonck\, Gaesdoncker Straße 220\, Goch\, 47574\, Germany
END:VEVENT
END:VCALENDAR