BEGIN:VCALENDAR
VERSION:2.0
PRODID:-//Die Gaesdonck - ECPv6.15.20//NONSGML v1.0//EN
CALSCALE:GREGORIAN
METHOD:PUBLISH
X-ORIGINAL-URL:https://www.gaesdonck.de
X-WR-CALDESC:Veranstaltungen für Die Gaesdonck
REFRESH-INTERVAL;VALUE=DURATION:PT1H
X-Robots-Tag:noindex
X-PUBLISHED-TTL:PT1H
BEGIN:VTIMEZONE
TZID:Europe/Berlin
BEGIN:DAYLIGHT
TZOFFSETFROM:+0100
TZOFFSETTO:+0200
TZNAME:CEST
DTSTART:20250330T010000
END:DAYLIGHT
BEGIN:STANDARD
TZOFFSETFROM:+0200
TZOFFSETTO:+0100
TZNAME:CET
DTSTART:20251026T010000
END:STANDARD
BEGIN:DAYLIGHT
TZOFFSETFROM:+0100
TZOFFSETTO:+0200
TZNAME:CEST
DTSTART:20260329T010000
END:DAYLIGHT
BEGIN:STANDARD
TZOFFSETFROM:+0200
TZOFFSETTO:+0100
TZNAME:CET
DTSTART:20261025T010000
END:STANDARD
BEGIN:DAYLIGHT
TZOFFSETFROM:+0100
TZOFFSETTO:+0200
TZNAME:CEST
DTSTART:20270328T010000
END:DAYLIGHT
BEGIN:STANDARD
TZOFFSETFROM:+0200
TZOFFSETTO:+0100
TZNAME:CET
DTSTART:20271031T010000
END:STANDARD
END:VTIMEZONE
BEGIN:VEVENT
DTSTART;TZID=Europe/Berlin:20260418T090000
DTEND;TZID=Europe/Berlin:20260418T120000
DTSTAMP:20260420T222901
CREATED:20251201T132121Z
LAST-MODIFIED:20251201T132121Z
UID:10002437-1776502800-1776513600@www.gaesdonck.de
SUMMARY:Kinder College
DESCRIPTION:
URL:https://www.gaesdonck.de/event/kinder-college-7/
LOCATION:Die Gaesdonck\, Gaesdoncker Straße 220\, Goch\, 47574\, Germany
END:VEVENT
BEGIN:VEVENT
DTSTART;VALUE=DATE:20260418
DTEND;VALUE=DATE:20260420
DTSTAMP:20260420T222901
CREATED:20260109T135637Z
LAST-MODIFIED:20260109T135637Z
UID:10002464-1776470400-1776643199@www.gaesdonck.de
SUMMARY:Internatswochenende
DESCRIPTION:
URL:https://www.gaesdonck.de/event/internatswochenende-19/
LOCATION:Die Gaesdonck\, Gaesdoncker Straße 220\, Goch\, 47574\, Germany
END:VEVENT
BEGIN:VEVENT
DTSTART;VALUE=DATE:20260418
DTEND;VALUE=DATE:20260419
DTSTAMP:20260420T222901
CREATED:20260202T161949Z
LAST-MODIFIED:20260202T161949Z
UID:10002512-1776470400-1776556799@www.gaesdonck.de
SUMMARY:Treffen der Abiturientia 1995
DESCRIPTION:
URL:https://www.gaesdonck.de/event/treffen-der-abiturientia-1995/
LOCATION:Die Gaesdonck\, Gaesdoncker Straße 220\, Goch\, 47574\, Germany
END:VEVENT
BEGIN:VEVENT
DTSTART;VALUE=DATE:20260418
DTEND;VALUE=DATE:20260419
DTSTAMP:20260420T222901
CREATED:20260202T161822Z
LAST-MODIFIED:20260202T161822Z
UID:10002511-1776470400-1776556799@www.gaesdonck.de
SUMMARY:Treffen der Abiturientia 1991
DESCRIPTION:
URL:https://www.gaesdonck.de/event/treffen-der-abiturientia-1991/
LOCATION:Die Gaesdonck\, Gaesdoncker Straße 220\, Goch\, 47574\, Germany
END:VEVENT
BEGIN:VEVENT
DTSTART;TZID=Europe/Berlin:20260417T140000
DTEND;TZID=Europe/Berlin:20260417T160000
DTSTAMP:20260420T222901
CREATED:20250904T132718Z
LAST-MODIFIED:20250904T132718Z
UID:10002398-1776434400-1776441600@www.gaesdonck.de
SUMMARY:Kunstschule "Forschen und Gestalten" sowie "Bildhauerei"
DESCRIPTION:
URL:https://www.gaesdonck.de/event/kunstschule-forschen-und-gestalten-sowie-bildhauerei-13/
LOCATION:Die Gaesdonck\, Gaesdoncker Straße 220\, Goch\, 47574\, Germany
END:VEVENT
BEGIN:VEVENT
DTSTART;TZID=Europe/Berlin:20260417T140000
DTEND;TZID=Europe/Berlin:20260417T153000
DTSTAMP:20260420T222901
CREATED:20260128T154757Z
LAST-MODIFIED:20260128T154757Z
UID:10002503-1776434400-1776439800@www.gaesdonck.de
SUMMARY:DPSG Truppstunde 5er bis 7er
DESCRIPTION:
URL:https://www.gaesdonck.de/event/dpsg-truppstunde-5er-bis-7er-10/
LOCATION:Die Gaesdonck\, Gaesdoncker Straße 220\, Goch\, 47574\, Germany
END:VEVENT
BEGIN:VEVENT
DTSTART;TZID=Europe/Berlin:20260416T170000
DTEND;TZID=Europe/Berlin:20260416T183000
DTSTAMP:20260420T222901
CREATED:20260128T153500Z
LAST-MODIFIED:20260128T153500Z
UID:10002495-1776358800-1776364200@www.gaesdonck.de
SUMMARY:DPSG Truppstunde 8er und 9er
DESCRIPTION:
URL:https://www.gaesdonck.de/event/dpsg-truppstunde-8er-und-9er-10/
LOCATION:Die Gaesdonck\, Gaesdoncker Straße 220\, Goch\, 47574\, Germany
END:VEVENT
BEGIN:VEVENT
DTSTART;TZID=Europe/Berlin:20260415T150000
DTEND;TZID=Europe/Berlin:20260415T170000
DTSTAMP:20260420T222901
CREATED:20260109T142050Z
LAST-MODIFIED:20260109T142050Z
UID:10002478-1776265200-1776272400@www.gaesdonck.de
SUMMARY:Offene Sprechstunde der Schulleitung
DESCRIPTION:
URL:https://www.gaesdonck.de/event/offene-sprechstunde-der-schulleitung-14/
LOCATION:Die Gaesdonck\, Gaesdoncker Straße 220\, Goch\, 47574\, Germany
END:VEVENT
BEGIN:VEVENT
DTSTART;VALUE=DATE:20260328
DTEND;VALUE=DATE:20260329
DTSTAMP:20260420T222901
CREATED:20251209T115922Z
LAST-MODIFIED:20251209T115922Z
UID:10002462-1774656000-1774742399@www.gaesdonck.de
SUMMARY:Beginn der Osterferien
DESCRIPTION:
URL:https://www.gaesdonck.de/event/beginn-der-osterferien-2/
LOCATION:Die Gaesdonck\, Gaesdoncker Straße 220\, Goch\, 47574\, Germany
END:VEVENT
BEGIN:VEVENT
DTSTART;TZID=Europe/Berlin:20260321T090000
DTEND;TZID=Europe/Berlin:20260321T120000
DTSTAMP:20260420T222901
CREATED:20251201T132050Z
LAST-MODIFIED:20251201T132050Z
UID:10002436-1774083600-1774094400@www.gaesdonck.de
SUMMARY:Kinder College
DESCRIPTION:
URL:https://www.gaesdonck.de/event/kinder-college-6/
LOCATION:Die Gaesdonck\, Gaesdoncker Straße 220\, Goch\, 47574\, Germany
END:VEVENT
BEGIN:VEVENT
DTSTART;VALUE=DATE:20260321
DTEND;VALUE=DATE:20260323
DTSTAMP:20260420T222901
CREATED:20251209T115728Z
LAST-MODIFIED:20251209T115728Z
UID:10002461-1774051200-1774223999@www.gaesdonck.de
SUMMARY:Internatswochenende
DESCRIPTION:
URL:https://www.gaesdonck.de/event/internatswochenende-18/
LOCATION:Die Gaesdonck\, Gaesdoncker Straße 220\, Goch\, 47574\, Germany
END:VEVENT
BEGIN:VEVENT
DTSTART;TZID=Europe/Berlin:20260320T140000
DTEND;TZID=Europe/Berlin:20260321T110000
DTSTAMP:20260420T222901
CREATED:20260204T143206Z
LAST-MODIFIED:20260204T143206Z
UID:10002514-1774015200-1774090800@www.gaesdonck.de
SUMMARY:DPSG Beratungstag-Event
DESCRIPTION:
URL:https://www.gaesdonck.de/event/dpsg-beratungstag-event/
LOCATION:Die Gaesdonck\, Gaesdoncker Straße 220\, Goch\, 47574\, Germany
END:VEVENT
BEGIN:VEVENT
DTSTART;TZID=Europe/Berlin:20260320T140000
DTEND;TZID=Europe/Berlin:20260320T180000
DTSTAMP:20260420T222901
CREATED:20251209T115514Z
LAST-MODIFIED:20251209T121459Z
UID:10002460-1774015200-1774029600@www.gaesdonck.de
SUMMARY:Beratungstag
DESCRIPTION:
URL:https://www.gaesdonck.de/event/beratungstag-2/
LOCATION:Die Gaesdonck\, Gaesdoncker Straße 220\, Goch\, 47574\, Germany
END:VEVENT
BEGIN:VEVENT
DTSTART;TZID=Europe/Berlin:20260320T140000
DTEND;TZID=Europe/Berlin:20260320T160000
DTSTAMP:20260420T222901
CREATED:20250904T132615Z
LAST-MODIFIED:20260317T090910Z
UID:10002397-1774015200-1774022400@www.gaesdonck.de
SUMMARY:Entfall Kunstschule "Forschen und Gestalten" sowie "Bildhauerei" - Ersatztermin folgt
DESCRIPTION:
URL:https://www.gaesdonck.de/event/kunstschule-forschen-und-gestalten-sowie-bildhauerei-12/
LOCATION:Die Gaesdonck\, Gaesdoncker Straße 220\, Goch\, 47574\, Germany
END:VEVENT
BEGIN:VEVENT
DTSTART;TZID=Europe/Berlin:20260320T140000
DTEND;TZID=Europe/Berlin:20260320T153000
DTSTAMP:20260420T222901
CREATED:20260128T154655Z
LAST-MODIFIED:20260128T154655Z
UID:10002502-1774015200-1774020600@www.gaesdonck.de
SUMMARY:DPSG Truppstunde 5er bis 7er
DESCRIPTION:
URL:https://www.gaesdonck.de/event/dpsg-truppstunde-5er-bis-7er-9/
LOCATION:Die Gaesdonck\, Gaesdoncker Straße 220\, Goch\, 47574\, Germany
END:VEVENT
BEGIN:VEVENT
DTSTART;TZID=Europe/Berlin:20260319T170000
DTEND;TZID=Europe/Berlin:20260319T183000
DTSTAMP:20260420T222901
CREATED:20260128T153415Z
LAST-MODIFIED:20260128T153415Z
UID:10002494-1773939600-1773945000@www.gaesdonck.de
SUMMARY:DPSG Truppstunde 8er und 9er
DESCRIPTION:
URL:https://www.gaesdonck.de/event/dpsg-truppstunde-8er-und-9er-9/
LOCATION:Die Gaesdonck\, Gaesdoncker Straße 220\, Goch\, 47574\, Germany
END:VEVENT
BEGIN:VEVENT
DTSTART;VALUE=DATE:20260316
DTEND;VALUE=DATE:20260317
DTSTAMP:20260420T222901
CREATED:20251209T115141Z
LAST-MODIFIED:20251209T115141Z
UID:10002458-1773619200-1773705599@www.gaesdonck.de
SUMMARY:Pädagogische Konferenzen
DESCRIPTION:
URL:https://www.gaesdonck.de/event/paedagogische-konferenzen-3/
LOCATION:Die Gaesdonck\, Gaesdoncker Straße 220\, Goch\, 47574\, Germany
END:VEVENT
BEGIN:VEVENT
DTSTART;VALUE=DATE:20260316
DTEND;VALUE=DATE:20260317
DTSTAMP:20260420T222901
CREATED:20251209T115215Z
LAST-MODIFIED:20251209T115305Z
UID:10002459-1773619200-1773705599@www.gaesdonck.de
SUMMARY:Studientag SuS
DESCRIPTION:
URL:https://www.gaesdonck.de/event/studientag-sus-4/
LOCATION:Die Gaesdonck\, Gaesdoncker Straße 220\, Goch\, 47574\, Germany
END:VEVENT
BEGIN:VEVENT
DTSTART;VALUE=DATE:20260314
DTEND;VALUE=DATE:20260316
DTSTAMP:20260420T222901
CREATED:20251209T115049Z
LAST-MODIFIED:20251209T115049Z
UID:10002457-1773446400-1773619199@www.gaesdonck.de
SUMMARY:Freies Wochenende
DESCRIPTION:
URL:https://www.gaesdonck.de/event/freies-wochenende-10/
LOCATION:Die Gaesdonck\, Gaesdoncker Straße 220\, Goch\, 47574\, Germany
END:VEVENT
BEGIN:VEVENT
DTSTART;TZID=Europe/Berlin:20260311T150000
DTEND;TZID=Europe/Berlin:20260311T170000
DTSTAMP:20260420T222901
CREATED:20251209T115002Z
LAST-MODIFIED:20251209T115002Z
UID:10002456-1773241200-1773248400@www.gaesdonck.de
SUMMARY:Offene Sprechstunde der Schulleitung
DESCRIPTION:
URL:https://www.gaesdonck.de/event/offene-sprechstunde-der-schulleitung-13/
LOCATION:Die Gaesdonck\, Gaesdoncker Straße 220\, Goch\, 47574\, Germany
END:VEVENT
BEGIN:VEVENT
DTSTART;TZID=Europe/Berlin:20260307T090000
DTEND;TZID=Europe/Berlin:20260307T120000
DTSTAMP:20260420T222901
CREATED:20251201T132503Z
LAST-MODIFIED:20251201T132503Z
UID:10002438-1772874000-1772884800@www.gaesdonck.de
SUMMARY:Kinder College
DESCRIPTION:
URL:https://www.gaesdonck.de/event/kinder-college-8/
LOCATION:Die Gaesdonck\, Gaesdoncker Straße 220\, Goch\, 47574\, Germany
END:VEVENT
BEGIN:VEVENT
DTSTART;VALUE=DATE:20260307
DTEND;VALUE=DATE:20260309
DTSTAMP:20260420T222901
CREATED:20251209T114838Z
LAST-MODIFIED:20251209T114838Z
UID:10002455-1772841600-1773014399@www.gaesdonck.de
SUMMARY:Internatswochenende
DESCRIPTION:
URL:https://www.gaesdonck.de/event/internatswochenende-17/
LOCATION:Die Gaesdonck\, Gaesdoncker Straße 220\, Goch\, 47574\, Germany
END:VEVENT
BEGIN:VEVENT
DTSTART;TZID=Europe/Berlin:20260306T140000
DTEND;TZID=Europe/Berlin:20260306T160000
DTSTAMP:20260420T222901
CREATED:20250904T132514Z
LAST-MODIFIED:20250904T132514Z
UID:10002396-1772805600-1772812800@www.gaesdonck.de
SUMMARY:Kunstschule "Forschen und Gestalten" sowie "Bildhauerei"
DESCRIPTION:
URL:https://www.gaesdonck.de/event/kunstschule-forschen-und-gestalten-sowie-bildhauerei-11/
LOCATION:Die Gaesdonck\, Gaesdoncker Straße 220\, Goch\, 47574\, Germany
END:VEVENT
BEGIN:VEVENT
DTSTART;TZID=Europe/Berlin:20260306T140000
DTEND;TZID=Europe/Berlin:20260306T153000
DTSTAMP:20260420T222901
CREATED:20260128T154610Z
LAST-MODIFIED:20260128T154610Z
UID:10002501-1772805600-1772811000@www.gaesdonck.de
SUMMARY:DPSG Truppstunde 5er bis 7er
DESCRIPTION:
URL:https://www.gaesdonck.de/event/dpsg-truppstunde-5er-bis-7er-8/
LOCATION:Die Gaesdonck\, Gaesdoncker Straße 220\, Goch\, 47574\, Germany
END:VEVENT
BEGIN:VEVENT
DTSTART;TZID=Europe/Berlin:20260305T170000
DTEND;TZID=Europe/Berlin:20260305T183000
DTSTAMP:20260420T222901
CREATED:20260128T153327Z
LAST-MODIFIED:20260128T153327Z
UID:10002493-1772730000-1772735400@www.gaesdonck.de
SUMMARY:DPSG Truppstunde 8er und 9er
DESCRIPTION:
URL:https://www.gaesdonck.de/event/dpsg-truppstunde-8er-und-9er-8/
LOCATION:Die Gaesdonck\, Gaesdoncker Straße 220\, Goch\, 47574\, Germany
END:VEVENT
BEGIN:VEVENT
DTSTART;TZID=Europe/Berlin:20260304T190000
DTEND;TZID=Europe/Berlin:20260304T190000
DTSTAMP:20260420T222901
CREATED:20251209T120304Z
LAST-MODIFIED:20260126T143902Z
UID:10002463-1772650800-1772650800@www.gaesdonck.de
SUMMARY:Benefizkonzert Luftwaffenmusikkorps Münster
DESCRIPTION:
URL:https://www.gaesdonck.de/event/benefizkonzert-2/
LOCATION:Die Gaesdonck\, Gaesdoncker Straße 220\, Goch\, 47574\, Germany
END:VEVENT
BEGIN:VEVENT
DTSTART;VALUE=DATE:20260228
DTEND;VALUE=DATE:20260302
DTSTAMP:20260420T222901
CREATED:20251201T133241Z
LAST-MODIFIED:20251201T133241Z
UID:10002444-1772236800-1772409599@www.gaesdonck.de
SUMMARY:Freies Wochenende
DESCRIPTION:
URL:https://www.gaesdonck.de/event/freies-wochenende-9/
LOCATION:Die Gaesdonck\, Gaesdoncker Straße 220\, Goch\, 47574\, Germany
END:VEVENT
BEGIN:VEVENT
DTSTART;TZID=Europe/Berlin:20260227T170000
DTEND;TZID=Europe/Berlin:20260227T220000
DTSTAMP:20260420T222901
CREATED:20260204T143057Z
LAST-MODIFIED:20260204T143057Z
UID:10002513-1772211600-1772229600@www.gaesdonck.de
SUMMARY:DPSG Roverabend
DESCRIPTION:
URL:https://www.gaesdonck.de/event/dpsg-roverabend/
LOCATION:Die Gaesdonck\, Gaesdoncker Straße 220\, Goch\, 47574\, Germany
END:VEVENT
BEGIN:VEVENT
DTSTART;TZID=Europe/Berlin:20260226T190000
DTEND;TZID=Europe/Berlin:20260226T190000
DTSTAMP:20260420T222901
CREATED:20260126T143723Z
LAST-MODIFIED:20260126T143723Z
UID:10002490-1772132400-1772132400@www.gaesdonck.de
SUMMARY:Studium Generale
DESCRIPTION:
URL:https://www.gaesdonck.de/event/studium-generale-3/
LOCATION:Die Gaesdonck\, Gaesdoncker Straße 220\, Goch\, 47574\, Germany
END:VEVENT
BEGIN:VEVENT
DTSTART;VALUE=DATE:20260222
DTEND;VALUE=DATE:20260223
DTSTAMP:20260420T222901
CREATED:20251201T134041Z
LAST-MODIFIED:20251201T134041Z
UID:10002449-1771718400-1771804799@www.gaesdonck.de
SUMMARY:Plenum Internat
DESCRIPTION:
URL:https://www.gaesdonck.de/event/plenum-internat-2/
LOCATION:Die Gaesdonck\, Gaesdoncker Straße 220\, Goch\, 47574\, Germany
END:VEVENT
END:VCALENDAR