BEGIN:VCALENDAR
VERSION:2.0
PRODID:-//Die Gaesdonck - ECPv6.15.20//NONSGML v1.0//EN
CALSCALE:GREGORIAN
METHOD:PUBLISH
X-ORIGINAL-URL:https://www.gaesdonck.de
X-WR-CALDESC:Veranstaltungen für Die Gaesdonck
REFRESH-INTERVAL;VALUE=DURATION:PT1H
X-Robots-Tag:noindex
X-PUBLISHED-TTL:PT1H
BEGIN:VTIMEZONE
TZID:Europe/Berlin
BEGIN:DAYLIGHT
TZOFFSETFROM:+0100
TZOFFSETTO:+0200
TZNAME:CEST
DTSTART:20240331T010000
END:DAYLIGHT
BEGIN:STANDARD
TZOFFSETFROM:+0200
TZOFFSETTO:+0100
TZNAME:CET
DTSTART:20241027T010000
END:STANDARD
BEGIN:DAYLIGHT
TZOFFSETFROM:+0100
TZOFFSETTO:+0200
TZNAME:CEST
DTSTART:20250330T010000
END:DAYLIGHT
BEGIN:STANDARD
TZOFFSETFROM:+0200
TZOFFSETTO:+0100
TZNAME:CET
DTSTART:20251026T010000
END:STANDARD
BEGIN:DAYLIGHT
TZOFFSETFROM:+0100
TZOFFSETTO:+0200
TZNAME:CEST
DTSTART:20260329T010000
END:DAYLIGHT
BEGIN:STANDARD
TZOFFSETFROM:+0200
TZOFFSETTO:+0100
TZNAME:CET
DTSTART:20261025T010000
END:STANDARD
END:VTIMEZONE
BEGIN:VEVENT
DTSTART;TZID=Europe/Berlin:20250912T140000
DTEND;TZID=Europe/Berlin:20250912T160000
DTSTAMP:20260421T182033
CREATED:20250903T153744Z
LAST-MODIFIED:20250903T153744Z
UID:10002385-1757685600-1757692800@www.gaesdonck.de
SUMMARY:DPSG Sextanertag
DESCRIPTION:
URL:https://www.gaesdonck.de/event/dpsg-sextanertag/
LOCATION:Die Gaesdonck\, Gaesdoncker Straße 220\, Goch\, 47574\, Germany
END:VEVENT
BEGIN:VEVENT
DTSTART;TZID=Europe/Berlin:20250912T140000
DTEND;TZID=Europe/Berlin:20250912T160000
DTSTAMP:20260421T182033
CREATED:20250903T144235Z
LAST-MODIFIED:20250903T144513Z
UID:10002383-1757685600-1757692800@www.gaesdonck.de
SUMMARY:Kunstschule "Forschen und Gestalten" sowie "Bildhauerei"
DESCRIPTION:
URL:https://www.gaesdonck.de/event/kunstschule-forschen-und-gestalten-hr-gruber-und-bildhauerei-hr-hill/
LOCATION:Die Gaesdonck\, Gaesdoncker Straße 220\, Goch\, 47574\, Germany
END:VEVENT
BEGIN:VEVENT
DTSTART;TZID=Europe/Berlin:20250911T170000
DTEND;TZID=Europe/Berlin:20250911T183000
DTSTAMP:20260421T182033
CREATED:20250903T152334Z
LAST-MODIFIED:20250903T152557Z
UID:10002384-1757610000-1757615400@www.gaesdonck.de
SUMMARY:DPSG Truppstunde 8er und 9er
DESCRIPTION:
URL:https://www.gaesdonck.de/event/dpsg-truppstunde-8er-9er/
LOCATION:Die Gaesdonck\, Gaesdoncker Straße 220\, Goch\, 47574\, Germany
END:VEVENT
BEGIN:VEVENT
DTSTART;TZID=Europe/Berlin:20250910T150000
DTEND;TZID=Europe/Berlin:20250910T170000
DTSTAMP:20260421T182033
CREATED:20250819T145258Z
LAST-MODIFIED:20250819T145258Z
UID:10002362-1757516400-1757523600@www.gaesdonck.de
SUMMARY:Offene Sprechstunde der Schulleitung
DESCRIPTION:
URL:https://www.gaesdonck.de/event/offene-sprechstunde-der-schulleitung-7/
LOCATION:Die Gaesdonck\, Gaesdoncker Straße 220\, Goch\, 47574\, Germany
END:VEVENT
BEGIN:VEVENT
DTSTART;TZID=Europe/Berlin:20250907T180000
DTEND;TZID=Europe/Berlin:20250907T190000
DTSTAMP:20260421T182033
CREATED:20250825T135004Z
LAST-MODIFIED:20250825T135244Z
UID:10002382-1757268000-1757271600@www.gaesdonck.de
SUMMARY:Schulpflegschaftssitzung
DESCRIPTION:
URL:https://www.gaesdonck.de/event/schulpflegschaftssitzung/
LOCATION:Die Gaesdonck\, Gaesdoncker Straße 220\, Goch\, 47574\, Germany
END:VEVENT
BEGIN:VEVENT
DTSTART;TZID=Europe/Berlin:20250907T170000
DTEND;TZID=Europe/Berlin:20250907T180000
DTSTAMP:20260421T182033
CREATED:20250825T134458Z
LAST-MODIFIED:20250825T134458Z
UID:10002381-1757264400-1757268000@www.gaesdonck.de
SUMMARY:Klassenpflegschafts-/Stufenpflegschaftssitzungen 5-Q2
DESCRIPTION:
URL:https://www.gaesdonck.de/event/klassenpflegschafts-stufenpflegschaftssitzungen-5-q2/
LOCATION:Die Gaesdonck\, Gaesdoncker Straße 220\, Goch\, 47574\, Germany
END:VEVENT
BEGIN:VEVENT
DTSTART;VALUE=DATE:20250906
DTEND;VALUE=DATE:20250908
DTSTAMP:20260421T182033
CREATED:20250819T144234Z
LAST-MODIFIED:20250819T144234Z
UID:10002354-1757116800-1757289599@www.gaesdonck.de
SUMMARY:Freies Wochenende
DESCRIPTION:
URL:https://www.gaesdonck.de/event/freies-wochenende/
LOCATION:Die Gaesdonck\, Gaesdoncker Straße 220\, Goch\, 47574\, Germany
END:VEVENT
BEGIN:VEVENT
DTSTART;VALUE=DATE:20250830
DTEND;VALUE=DATE:20250901
DTSTAMP:20260421T182033
CREATED:20250819T141655Z
LAST-MODIFIED:20250819T141655Z
UID:10002341-1756512000-1756684799@www.gaesdonck.de
SUMMARY:Internatswochenende
DESCRIPTION:
URL:https://www.gaesdonck.de/event/internatswochenende/
LOCATION:Die Gaesdonck\, Gaesdoncker Straße 220\, Goch\, 47574\, Germany
END:VEVENT
BEGIN:VEVENT
DTSTART;VALUE=DATE:20250830
DTEND;VALUE=DATE:20250831
DTSTAMP:20260421T182033
CREATED:20250819T142215Z
LAST-MODIFIED:20250819T142215Z
UID:10002343-1756512000-1756598399@www.gaesdonck.de
SUMMARY:Willkommensfest im Internat
DESCRIPTION:
URL:https://www.gaesdonck.de/event/willkommensfest-im-internat-2/
LOCATION:Die Gaesdonck\, Gaesdoncker Straße 220\, Goch\, 47574\, Germany
END:VEVENT
BEGIN:VEVENT
DTSTART;TZID=Europe/Berlin:20250828T170000
DTEND;TZID=Europe/Berlin:20250828T193000
DTSTAMP:20260421T182034
CREATED:20250819T143612Z
LAST-MODIFIED:20250822T082414Z
UID:10002353-1756400400-1756409400@www.gaesdonck.de
SUMMARY:Sextaneraufnahme
DESCRIPTION:
URL:https://www.gaesdonck.de/event/aufnahme-sextaner/
LOCATION:Die Gaesdonck\, Gaesdoncker Straße 220\, Goch\, 47574\, Germany
END:VEVENT
BEGIN:VEVENT
DTSTART;VALUE=DATE:20250711
DTEND;VALUE=DATE:20250712
DTSTAMP:20260421T182034
CREATED:20241120T141824Z
LAST-MODIFIED:20241120T141824Z
UID:10002250-1752192000-1752278399@www.gaesdonck.de
SUMMARY:Beginn der Sommerferien
DESCRIPTION:
URL:https://www.gaesdonck.de/event/beginn-der-sommerferien/
LOCATION:Die Gaesdonck\, Gaesdoncker Straße 220\, Goch\, 47574\, Germany
END:VEVENT
BEGIN:VEVENT
DTSTART;TZID=Europe/Berlin:20250709T131000
DTEND;TZID=Europe/Berlin:20250709T131000
DTSTAMP:20260421T182034
CREATED:20250508T122134Z
LAST-MODIFIED:20250508T122134Z
UID:10002331-1752066600-1752066600@www.gaesdonck.de
SUMMARY:Messe Basilika St. Marien Kevelaer
DESCRIPTION:
URL:https://www.gaesdonck.de/event/messe-basilika-st-marien-kevelaer/
LOCATION:Die Gaesdonck\, Gaesdoncker Straße 220\, Goch\, 47574\, Germany
END:VEVENT
BEGIN:VEVENT
DTSTART;VALUE=DATE:20250709
DTEND;VALUE=DATE:20250710
DTSTAMP:20260421T182034
CREATED:20250211T161245Z
LAST-MODIFIED:20250211T161245Z
UID:10002283-1752019200-1752105599@www.gaesdonck.de
SUMMARY:Wallfahrt
DESCRIPTION:
URL:https://www.gaesdonck.de/event/wallfahrt/
LOCATION:Die Gaesdonck\, Gaesdoncker Straße 220\, Goch\, 47574\, Germany
END:VEVENT
BEGIN:VEVENT
DTSTART;TZID=Europe/Berlin:20250706T103000
DTEND;TZID=Europe/Berlin:20250706T103000
DTSTAMP:20260421T182034
CREATED:20250508T114350Z
LAST-MODIFIED:20250508T114350Z
UID:10002329-1751797800-1751797800@www.gaesdonck.de
SUMMARY:Eucharistiefeier Klosterkirche
DESCRIPTION:
URL:https://www.gaesdonck.de/event/eucharistiefeier-klosterkirche-21/
LOCATION:Die Gaesdonck\, Gaesdoncker Straße 220\, Goch\, 47574\, Germany
END:VEVENT
BEGIN:VEVENT
DTSTART;VALUE=DATE:20250705
DTEND;VALUE=DATE:20250707
DTSTAMP:20260421T182034
CREATED:20241119T163846Z
LAST-MODIFIED:20241119T163846Z
UID:10002236-1751673600-1751846399@www.gaesdonck.de
SUMMARY:Internatswochenende
DESCRIPTION:
URL:https://www.gaesdonck.de/event/internatswochenende-37/
LOCATION:Die Gaesdonck\, Gaesdoncker Straße 220\, Goch\, 47574\, Germany
END:VEVENT
BEGIN:VEVENT
DTSTART;TZID=Europe/Berlin:20250704T140000
DTEND;TZID=Europe/Berlin:20250704T160000
DTSTAMP:20260421T182034
CREATED:20241119T122341Z
LAST-MODIFIED:20241119T122341Z
UID:10002225-1751637600-1751644800@www.gaesdonck.de
SUMMARY:Kunstschule "Bildhauereiatelier" und "Forschen und Gestalten"
DESCRIPTION:
URL:https://www.gaesdonck.de/event/kunstschule-bildhauereiatelier-und-forschen-und-gestalten-14/
LOCATION:Die Gaesdonck\, Gaesdoncker Straße 220\, Goch\, 47574\, Germany
END:VEVENT
BEGIN:VEVENT
DTSTART;TZID=Europe/Berlin:20250704T100000
DTEND;TZID=Europe/Berlin:20250704T100000
DTSTAMP:20260421T182034
CREATED:20250508T122433Z
LAST-MODIFIED:20250508T122433Z
UID:10002332-1751623200-1751623200@www.gaesdonck.de
SUMMARY:Abimesse Klosterkirche
DESCRIPTION:
URL:https://www.gaesdonck.de/event/abimesse-klosterkirche/
LOCATION:Die Gaesdonck\, Gaesdoncker Straße 220\, Goch\, 47574\, Germany
END:VEVENT
BEGIN:VEVENT
DTSTART;TZID=Europe/Berlin:20250703T200000
DTEND;TZID=Europe/Berlin:20250703T200000
DTSTAMP:20260421T182034
CREATED:20250508T114202Z
LAST-MODIFIED:20250508T114202Z
UID:10002328-1751572800-1751572800@www.gaesdonck.de
SUMMARY:Abendlichter Klosterkirche
DESCRIPTION:
URL:https://www.gaesdonck.de/event/abendlichter-klosterkirche-19/
LOCATION:Die Gaesdonck\, Gaesdoncker Straße 220\, Goch\, 47574\, Germany
END:VEVENT
BEGIN:VEVENT
DTSTART;TZID=Europe/Berlin:20250702T150000
DTEND;TZID=Europe/Berlin:20250702T170000
DTSTAMP:20260421T182034
CREATED:20250211T160901Z
LAST-MODIFIED:20250211T160901Z
UID:10002282-1751468400-1751475600@www.gaesdonck.de
SUMMARY:Offene Sprechstunde der Schulleitung
DESCRIPTION:
URL:https://www.gaesdonck.de/event/offene-sprechstunde-der-schulleitung-17/
LOCATION:Die Gaesdonck\, Gaesdoncker Straße 220\, Goch\, 47574\, Germany
END:VEVENT
BEGIN:VEVENT
DTSTART;TZID=Europe/Berlin:20250629T103000
DTEND;TZID=Europe/Berlin:20250629T103000
DTSTAMP:20260421T182034
CREATED:20250508T113824Z
LAST-MODIFIED:20250508T113824Z
UID:10002327-1751193000-1751193000@www.gaesdonck.de
SUMMARY:Eucharistiefeier Klosterkirche
DESCRIPTION:
URL:https://www.gaesdonck.de/event/eucharistiefeier-klosterkirche-19/
LOCATION:Die Gaesdonck\, Gaesdoncker Straße 220\, Goch\, 47574\, Germany
END:VEVENT
BEGIN:VEVENT
DTSTART;VALUE=DATE:20250628
DTEND;VALUE=DATE:20250630
DTSTAMP:20260421T182034
CREATED:20241119T163750Z
LAST-MODIFIED:20241119T163750Z
UID:10002235-1751068800-1751241599@www.gaesdonck.de
SUMMARY:Internatswochenende
DESCRIPTION:
URL:https://www.gaesdonck.de/event/internatswochenende-36/
LOCATION:Die Gaesdonck\, Gaesdoncker Straße 220\, Goch\, 47574\, Germany
END:VEVENT
BEGIN:VEVENT
DTSTART;TZID=Europe/Berlin:20250627T140000
DTEND;TZID=Europe/Berlin:20250627T160000
DTSTAMP:20260421T182034
CREATED:20241119T122231Z
LAST-MODIFIED:20241119T122231Z
UID:10002224-1751032800-1751040000@www.gaesdonck.de
SUMMARY:Kunstschule "Bildhauereiatelier" und "Forschen und Gestalten"
DESCRIPTION:
URL:https://www.gaesdonck.de/event/kunstschule-bildhauereiatelier-und-forschen-und-gestalten-13/
LOCATION:Die Gaesdonck\, Gaesdoncker Straße 220\, Goch\, 47574\, Germany
END:VEVENT
BEGIN:VEVENT
DTSTART;TZID=Europe/Berlin:20250626T200000
DTEND;TZID=Europe/Berlin:20250626T200000
DTSTAMP:20260421T182034
CREATED:20250508T113627Z
LAST-MODIFIED:20250508T113627Z
UID:10002325-1750968000-1750968000@www.gaesdonck.de
SUMMARY:Abendlichter Klosterkirche
DESCRIPTION:
URL:https://www.gaesdonck.de/event/abendlichter-klosterkirche-5/
LOCATION:Die Gaesdonck\, Gaesdoncker Straße 220\, Goch\, 47574\, Germany
END:VEVENT
BEGIN:VEVENT
DTSTART;VALUE=DATE:20250621
DTEND;VALUE=DATE:20250623
DTSTAMP:20260421T182034
CREATED:20241120T141226Z
LAST-MODIFIED:20241120T141226Z
UID:10002247-1750464000-1750636799@www.gaesdonck.de
SUMMARY:Freies Wochenende
DESCRIPTION:
URL:https://www.gaesdonck.de/event/freies-wochenende-20/
LOCATION:Die Gaesdonck\, Gaesdoncker Straße 220\, Goch\, 47574\, Germany
END:VEVENT
BEGIN:VEVENT
DTSTART;VALUE=DATE:20250620
DTEND;VALUE=DATE:20250621
DTSTAMP:20260421T182034
CREATED:20241120T141621Z
LAST-MODIFIED:20241120T141621Z
UID:10002248-1750377600-1750463999@www.gaesdonck.de
SUMMARY:Beweglicher Ferientag
DESCRIPTION:
URL:https://www.gaesdonck.de/event/beweglicher-ferientag-2/
LOCATION:Die Gaesdonck\, Gaesdoncker Straße 220\, Goch\, 47574\, Germany
END:VEVENT
BEGIN:VEVENT
DTSTART;VALUE=DATE:20250619
DTEND;VALUE=DATE:20250620
DTSTAMP:20260421T182034
CREATED:20241120T141714Z
LAST-MODIFIED:20241120T141714Z
UID:10002249-1750291200-1750377599@www.gaesdonck.de
SUMMARY:Fronleichnam
DESCRIPTION:
URL:https://www.gaesdonck.de/event/fronleichnam-2/
LOCATION:Die Gaesdonck\, Gaesdoncker Straße 220\, Goch\, 47574\, Germany
END:VEVENT
BEGIN:VEVENT
DTSTART;TZID=Europe/Berlin:20250615T103000
DTEND;TZID=Europe/Berlin:20250615T103000
DTSTAMP:20260421T182034
CREATED:20250508T113734Z
LAST-MODIFIED:20250508T113734Z
UID:10002326-1749983400-1749983400@www.gaesdonck.de
SUMMARY:Eucharistiefeier Klosterkirche
DESCRIPTION:
URL:https://www.gaesdonck.de/event/eucharistiefeier-klosterkirche-7/
LOCATION:Die Gaesdonck\, Gaesdoncker Straße 220\, Goch\, 47574\, Germany
END:VEVENT
BEGIN:VEVENT
DTSTART;TZID=Europe/Berlin:20250614T090000
DTEND;TZID=Europe/Berlin:20250614T090000
DTSTAMP:20260421T182034
CREATED:20240906T125527Z
LAST-MODIFIED:20240906T125527Z
UID:10002170-1749891600-1749891600@www.gaesdonck.de
SUMMARY:Kinder College Abschlussveranstaltung
DESCRIPTION:
URL:https://www.gaesdonck.de/event/kinder-college-abschlussveranstaltung-2/
LOCATION:Die Gaesdonck\, Gaesdoncker Straße 220\, Goch\, 47574\, Germany
END:VEVENT
BEGIN:VEVENT
DTSTART;VALUE=DATE:20250614
DTEND;VALUE=DATE:20250616
DTSTAMP:20260421T182034
CREATED:20241119T163705Z
LAST-MODIFIED:20241119T163705Z
UID:10002234-1749859200-1750031999@www.gaesdonck.de
SUMMARY:Internatswochenende
DESCRIPTION:
URL:https://www.gaesdonck.de/event/internatswochenende-35/
LOCATION:Die Gaesdonck\, Gaesdoncker Straße 220\, Goch\, 47574\, Germany
END:VEVENT
BEGIN:VEVENT
DTSTART;VALUE=DATE:20250614
DTEND;VALUE=DATE:20250615
DTSTAMP:20260421T182034
CREATED:20250508T152838Z
LAST-MODIFIED:20250508T152838Z
UID:10002337-1749859200-1749945599@www.gaesdonck.de
SUMMARY:Treffen der Abiturientia 2005
DESCRIPTION:
URL:https://www.gaesdonck.de/event/treffen-der-abiturientia-2005/
LOCATION:Die Gaesdonck\, Gaesdoncker Straße 220\, Goch\, 47574\, Germany
END:VEVENT
END:VCALENDAR