BEGIN:VCALENDAR
VERSION:2.0
PRODID:-//Die Gaesdonck - ECPv6.15.20//NONSGML v1.0//EN
CALSCALE:GREGORIAN
METHOD:PUBLISH
X-ORIGINAL-URL:https://www.gaesdonck.de
X-WR-CALDESC:Veranstaltungen für Die Gaesdonck
REFRESH-INTERVAL;VALUE=DURATION:PT1H
X-Robots-Tag:noindex
X-PUBLISHED-TTL:PT1H
BEGIN:VTIMEZONE
TZID:Europe/Berlin
BEGIN:DAYLIGHT
TZOFFSETFROM:+0100
TZOFFSETTO:+0200
TZNAME:CEST
DTSTART:20240331T010000
END:DAYLIGHT
BEGIN:STANDARD
TZOFFSETFROM:+0200
TZOFFSETTO:+0100
TZNAME:CET
DTSTART:20241027T010000
END:STANDARD
BEGIN:DAYLIGHT
TZOFFSETFROM:+0100
TZOFFSETTO:+0200
TZNAME:CEST
DTSTART:20250330T010000
END:DAYLIGHT
BEGIN:STANDARD
TZOFFSETFROM:+0200
TZOFFSETTO:+0100
TZNAME:CET
DTSTART:20251026T010000
END:STANDARD
BEGIN:DAYLIGHT
TZOFFSETFROM:+0100
TZOFFSETTO:+0200
TZNAME:CEST
DTSTART:20260329T010000
END:DAYLIGHT
BEGIN:STANDARD
TZOFFSETFROM:+0200
TZOFFSETTO:+0100
TZNAME:CET
DTSTART:20261025T010000
END:STANDARD
END:VTIMEZONE
BEGIN:VEVENT
DTSTART;TZID=Europe/Berlin:20250518T103000
DTEND;TZID=Europe/Berlin:20250518T103000
DTSTAMP:20260422T022434
CREATED:20250404T131625Z
LAST-MODIFIED:20250404T132644Z
UID:10002308-1747564200-1747564200@www.gaesdonck.de
SUMMARY:Eucharistiefeier Schwesternkapelle
DESCRIPTION:
URL:https://www.gaesdonck.de/event/eucharistiefeier-klosterkirche-20/
LOCATION:Die Gaesdonck\, Gaesdoncker Straße 220\, Goch\, 47574\, Germany
END:VEVENT
BEGIN:VEVENT
DTSTART;TZID=Europe/Berlin:20250517T170000
DTEND;TZID=Europe/Berlin:20250517T170000
DTSTAMP:20260422T022434
CREATED:20250424T151855Z
LAST-MODIFIED:20250508T130936Z
UID:10002321-1747501200-1747501200@www.gaesdonck.de
SUMMARY:Alumniabend
DESCRIPTION:
URL:https://www.gaesdonck.de/event/alumni-abend/
LOCATION:Die Gaesdonck\, Gaesdoncker Straße 220\, Goch\, 47574\, Germany
END:VEVENT
BEGIN:VEVENT
DTSTART;TZID=Europe/Berlin:20250517T160000
DTEND;TZID=Europe/Berlin:20250517T160000
DTSTAMP:20260422T022434
CREATED:20250407T151646Z
LAST-MODIFIED:20250425T113647Z
UID:10002319-1747497600-1747497600@www.gaesdonck.de
SUMMARY:Stiftungsmesse Klosterkirche / Ehemaligentreffen
DESCRIPTION:
URL:https://www.gaesdonck.de/event/stiftungsmesse-klosterkirche-2/
LOCATION:Die Gaesdonck\, Gaesdoncker Straße 220\, Goch\, 47574\, Germany
END:VEVENT
BEGIN:VEVENT
DTSTART;TZID=Europe/Berlin:20250517T113000
DTEND;TZID=Europe/Berlin:20250517T113000
DTSTAMP:20260422T022434
CREATED:20240903T140553Z
LAST-MODIFIED:20250508T131120Z
UID:10002158-1747481400-1747481400@www.gaesdonck.de
SUMMARY:Campusfest / Tag es offenen Internats
DESCRIPTION:
URL:https://www.gaesdonck.de/event/familientag/
LOCATION:Die Gaesdonck\, Gaesdoncker Straße 220\, Goch\, 47574\, Germany
END:VEVENT
BEGIN:VEVENT
DTSTART;TZID=Europe/Berlin:20250517T090000
DTEND;TZID=Europe/Berlin:20250517T120000
DTSTAMP:20260422T022434
CREATED:20240906T125436Z
LAST-MODIFIED:20240906T125436Z
UID:10002169-1747472400-1747483200@www.gaesdonck.de
SUMMARY:Kinder College
DESCRIPTION:
URL:https://www.gaesdonck.de/event/kinder-college-20/
LOCATION:Die Gaesdonck\, Gaesdoncker Straße 220\, Goch\, 47574\, Germany
END:VEVENT
BEGIN:VEVENT
DTSTART;VALUE=DATE:20250517
DTEND;VALUE=DATE:20250519
DTSTAMP:20260422T022434
CREATED:20241119T163530Z
LAST-MODIFIED:20241119T163530Z
UID:10002232-1747440000-1747612799@www.gaesdonck.de
SUMMARY:Internatswochenende
DESCRIPTION:
URL:https://www.gaesdonck.de/event/internatswochenende-33/
LOCATION:Die Gaesdonck\, Gaesdoncker Straße 220\, Goch\, 47574\, Germany
END:VEVENT
BEGIN:VEVENT
DTSTART;TZID=Europe/Berlin:20250516T140000
DTEND;TZID=Europe/Berlin:20250516T160000
DTSTAMP:20260422T022434
CREATED:20241119T121822Z
LAST-MODIFIED:20241119T121822Z
UID:10002222-1747404000-1747411200@www.gaesdonck.de
SUMMARY:Kunstschule "Bildhauereiatelier" und "Forschen und Gestalten"
DESCRIPTION:
URL:https://www.gaesdonck.de/event/kunstschule-bildhauereiatelier-und-forschen-und-gestalten-11/
LOCATION:Die Gaesdonck\, Gaesdoncker Straße 220\, Goch\, 47574\, Germany
END:VEVENT
BEGIN:VEVENT
DTSTART;TZID=Europe/Berlin:20250515T200000
DTEND;TZID=Europe/Berlin:20250515T200000
DTSTAMP:20260422T022434
CREATED:20250404T132139Z
LAST-MODIFIED:20250404T132139Z
UID:10002311-1747339200-1747339200@www.gaesdonck.de
SUMMARY:Abendlichter Klosterkirche
DESCRIPTION:
URL:https://www.gaesdonck.de/event/abendlichter-klosterkirche-3/
LOCATION:Die Gaesdonck\, Gaesdoncker Straße 220\, Goch\, 47574\, Germany
END:VEVENT
BEGIN:VEVENT
DTSTART;TZID=Europe/Berlin:20250515T084500
DTEND;TZID=Europe/Berlin:20250515T084500
DTSTAMP:20260422T022434
CREATED:20250404T132052Z
LAST-MODIFIED:20250404T132052Z
UID:10002310-1747298700-1747298700@www.gaesdonck.de
SUMMARY:Schulmesse 9er
DESCRIPTION:
URL:https://www.gaesdonck.de/event/schulmesse-9er-2/
LOCATION:Die Gaesdonck\, Gaesdoncker Straße 220\, Goch\, 47574\, Germany
END:VEVENT
BEGIN:VEVENT
DTSTART;VALUE=DATE:20250510
DTEND;VALUE=DATE:20250512
DTSTAMP:20260422T022434
CREATED:20241120T140921Z
LAST-MODIFIED:20241120T140921Z
UID:10002244-1746835200-1747007999@www.gaesdonck.de
SUMMARY:Freies Wochenende
DESCRIPTION:
URL:https://www.gaesdonck.de/event/freies-wochenende-18/
LOCATION:Die Gaesdonck\, Gaesdoncker Straße 220\, Goch\, 47574\, Germany
END:VEVENT
BEGIN:VEVENT
DTSTART;TZID=Europe/Berlin:20250508T084500
DTEND;TZID=Europe/Berlin:20250508T084500
DTSTAMP:20260422T022434
CREATED:20250404T132005Z
LAST-MODIFIED:20250404T132005Z
UID:10002309-1746693900-1746693900@www.gaesdonck.de
SUMMARY:Schulmesse 8er
DESCRIPTION:
URL:https://www.gaesdonck.de/event/schulmesse-8er/
LOCATION:Die Gaesdonck\, Gaesdoncker Straße 220\, Goch\, 47574\, Germany
END:VEVENT
BEGIN:VEVENT
DTSTART;TZID=Europe/Berlin:20250504T103000
DTEND;TZID=Europe/Berlin:20250504T103000
DTSTAMP:20260422T022434
CREATED:20250404T131232Z
LAST-MODIFIED:20250404T131232Z
UID:10002306-1746354600-1746354600@www.gaesdonck.de
SUMMARY:Eucharistiefeier Klosterkirche
DESCRIPTION:
URL:https://www.gaesdonck.de/event/eucharistiefeier-klosterkirche-4/
LOCATION:Die Gaesdonck\, Gaesdoncker Straße 220\, Goch\, 47574\, Germany
END:VEVENT
BEGIN:VEVENT
DTSTART;VALUE=DATE:20250503
DTEND;VALUE=DATE:20250505
DTSTAMP:20260422T022434
CREATED:20241119T163441Z
LAST-MODIFIED:20241119T163441Z
UID:10002231-1746230400-1746403199@www.gaesdonck.de
SUMMARY:Internatswochenende
DESCRIPTION:
URL:https://www.gaesdonck.de/event/internatswochenende-32/
LOCATION:Die Gaesdonck\, Gaesdoncker Straße 220\, Goch\, 47574\, Germany
END:VEVENT
BEGIN:VEVENT
DTSTART;TZID=Europe/Berlin:20250502T140000
DTEND;TZID=Europe/Berlin:20250502T160000
DTSTAMP:20260422T022434
CREATED:20241119T121649Z
LAST-MODIFIED:20241119T121649Z
UID:10002221-1746194400-1746201600@www.gaesdonck.de
SUMMARY:Kunstschule "Bildhauereiatelier" und "Forschen und Gestalten"
DESCRIPTION:
URL:https://www.gaesdonck.de/event/kunstschule-bildhauereiatelier-und-forschen-und-gestalten-10/
LOCATION:Die Gaesdonck\, Gaesdoncker Straße 220\, Goch\, 47574\, Germany
END:VEVENT
BEGIN:VEVENT
DTSTART;VALUE=DATE:20250501
DTEND;VALUE=DATE:20250502
DTSTAMP:20260422T022434
CREATED:20241120T144308Z
LAST-MODIFIED:20241120T144308Z
UID:10002258-1746057600-1746143999@www.gaesdonck.de
SUMMARY:Tag der Arbeit
DESCRIPTION:
URL:https://www.gaesdonck.de/event/tag-der-arbeit-2/
LOCATION:Die Gaesdonck\, Gaesdoncker Straße 220\, Goch\, 47574\, Germany
END:VEVENT
BEGIN:VEVENT
DTSTART;TZID=Europe/Berlin:20250425T140000
DTEND;TZID=Europe/Berlin:20250425T140000
DTSTAMP:20260422T022434
CREATED:20250404T134504Z
LAST-MODIFIED:20250404T134504Z
UID:10002317-1745589600-1745589600@www.gaesdonck.de
SUMMARY:Trauung Klosterkirche
DESCRIPTION:
URL:https://www.gaesdonck.de/event/trauung-klosterkirche/
LOCATION:Die Gaesdonck\, Gaesdoncker Straße 220\, Goch\, 47574\, Germany
END:VEVENT
END:VCALENDAR