BEGIN:VCALENDAR
VERSION:2.0
PRODID:-//Die Gaesdonck - ECPv6.15.20//NONSGML v1.0//EN
CALSCALE:GREGORIAN
METHOD:PUBLISH
X-ORIGINAL-URL:https://www.gaesdonck.de
X-WR-CALDESC:Veranstaltungen für Die Gaesdonck
REFRESH-INTERVAL;VALUE=DURATION:PT1H
X-Robots-Tag:noindex
X-PUBLISHED-TTL:PT1H
BEGIN:VTIMEZONE
TZID:Europe/Berlin
BEGIN:DAYLIGHT
TZOFFSETFROM:+0100
TZOFFSETTO:+0200
TZNAME:CEST
DTSTART:20250330T010000
END:DAYLIGHT
BEGIN:STANDARD
TZOFFSETFROM:+0200
TZOFFSETTO:+0100
TZNAME:CET
DTSTART:20251026T010000
END:STANDARD
BEGIN:DAYLIGHT
TZOFFSETFROM:+0100
TZOFFSETTO:+0200
TZNAME:CEST
DTSTART:20260329T010000
END:DAYLIGHT
BEGIN:STANDARD
TZOFFSETFROM:+0200
TZOFFSETTO:+0100
TZNAME:CET
DTSTART:20261025T010000
END:STANDARD
BEGIN:DAYLIGHT
TZOFFSETFROM:+0100
TZOFFSETTO:+0200
TZNAME:CEST
DTSTART:20270328T010000
END:DAYLIGHT
BEGIN:STANDARD
TZOFFSETFROM:+0200
TZOFFSETTO:+0100
TZNAME:CET
DTSTART:20271031T010000
END:STANDARD
END:VTIMEZONE
BEGIN:VEVENT
DTSTART;VALUE=DATE:20260606
DTEND;VALUE=DATE:20260608
DTSTAMP:20260421T001553
CREATED:20260109T140542Z
LAST-MODIFIED:20260109T140542Z
UID:10002471-1780704000-1780876799@www.gaesdonck.de
SUMMARY:Freies Wochenende
DESCRIPTION:
URL:https://www.gaesdonck.de/event/freies-wochenende-23/
LOCATION:Die Gaesdonck\, Gaesdoncker Straße 220\, Goch\, 47574\, Germany
END:VEVENT
BEGIN:VEVENT
DTSTART;TZID=Europe/Berlin:20260610T150000
DTEND;TZID=Europe/Berlin:20260610T170000
DTSTAMP:20260421T001553
CREATED:20260112T152246Z
LAST-MODIFIED:20260112T152246Z
UID:10002487-1781103600-1781110800@www.gaesdonck.de
SUMMARY:Offene Sprechstunde der Schulleitung
DESCRIPTION:
URL:https://www.gaesdonck.de/event/offene-sprechstunde-der-schulleitung-16/
LOCATION:Die Gaesdonck\, Gaesdoncker Straße 220\, Goch\, 47574\, Germany
END:VEVENT
BEGIN:VEVENT
DTSTART;TZID=Europe/Berlin:20260611T170000
DTEND;TZID=Europe/Berlin:20260611T183000
DTSTAMP:20260421T001553
CREATED:20260128T153547Z
LAST-MODIFIED:20260128T153547Z
UID:10002496-1781197200-1781202600@www.gaesdonck.de
SUMMARY:DPSG Truppstunde 8er und 9er
DESCRIPTION:
URL:https://www.gaesdonck.de/event/dpsg-truppstunde-8er-und-9er-11/
LOCATION:Die Gaesdonck\, Gaesdoncker Straße 220\, Goch\, 47574\, Germany
END:VEVENT
BEGIN:VEVENT
DTSTART;TZID=Europe/Berlin:20260612T140000
DTEND;TZID=Europe/Berlin:20260612T153000
DTSTAMP:20260421T001553
CREATED:20260128T154917Z
LAST-MODIFIED:20260128T154917Z
UID:10002504-1781272800-1781278200@www.gaesdonck.de
SUMMARY:DPSG Truppstunde 5er bis 7er
DESCRIPTION:
URL:https://www.gaesdonck.de/event/dpsg-truppstunde-5er-bis-7er-11/
LOCATION:Die Gaesdonck\, Gaesdoncker Straße 220\, Goch\, 47574\, Germany
END:VEVENT
BEGIN:VEVENT
DTSTART;TZID=Europe/Berlin:20260612T140000
DTEND;TZID=Europe/Berlin:20260612T160000
DTSTAMP:20260421T001553
CREATED:20250904T133015Z
LAST-MODIFIED:20250904T133015Z
UID:10002401-1781272800-1781280000@www.gaesdonck.de
SUMMARY:Kunstschule "Forschen und Gestalten" sowie "Bildhauerei"
DESCRIPTION:
URL:https://www.gaesdonck.de/event/kunstschule-forschen-und-gestalten-sowie-bildhauerei-15/
LOCATION:Die Gaesdonck\, Gaesdoncker Straße 220\, Goch\, 47574\, Germany
END:VEVENT
BEGIN:VEVENT
DTSTART;VALUE=DATE:20260613
DTEND;VALUE=DATE:20260614
DTSTAMP:20260421T001553
CREATED:20251201T132643Z
LAST-MODIFIED:20251201T132643Z
UID:10002440-1781308800-1781395199@www.gaesdonck.de
SUMMARY:Kinder College Abschlussveranstaltung
DESCRIPTION:
URL:https://www.gaesdonck.de/event/kinder-college-abschlussveranstaltung/
LOCATION:Die Gaesdonck\, Gaesdoncker Straße 220\, Goch\, 47574\, Germany
END:VEVENT
BEGIN:VEVENT
DTSTART;VALUE=DATE:20260613
DTEND;VALUE=DATE:20260615
DTSTAMP:20260421T001553
CREATED:20260109T140617Z
LAST-MODIFIED:20260109T140617Z
UID:10002472-1781308800-1781481599@www.gaesdonck.de
SUMMARY:Internatswochenende
DESCRIPTION:
URL:https://www.gaesdonck.de/event/internatswochenende-23/
LOCATION:Die Gaesdonck\, Gaesdoncker Straße 220\, Goch\, 47574\, Germany
END:VEVENT
BEGIN:VEVENT
DTSTART;VALUE=DATE:20260620
DTEND;VALUE=DATE:20260622
DTSTAMP:20260421T001553
CREATED:20260109T140657Z
LAST-MODIFIED:20260109T140657Z
UID:10002473-1781913600-1782086399@www.gaesdonck.de
SUMMARY:Freies Wochenende
DESCRIPTION:
URL:https://www.gaesdonck.de/event/freies-wochenende-24/
LOCATION:Die Gaesdonck\, Gaesdoncker Straße 220\, Goch\, 47574\, Germany
END:VEVENT
BEGIN:VEVENT
DTSTART;TZID=Europe/Berlin:20260625T170000
DTEND;TZID=Europe/Berlin:20260625T183000
DTSTAMP:20260421T001553
CREATED:20260128T153631Z
LAST-MODIFIED:20260128T153631Z
UID:10002497-1782406800-1782412200@www.gaesdonck.de
SUMMARY:DPSG Truppstunde 8er und 9er
DESCRIPTION:
URL:https://www.gaesdonck.de/event/dpsg-truppstunde-8er-und-9er-12/
LOCATION:Die Gaesdonck\, Gaesdoncker Straße 220\, Goch\, 47574\, Germany
END:VEVENT
BEGIN:VEVENT
DTSTART;TZID=Europe/Berlin:20260626T140000
DTEND;TZID=Europe/Berlin:20260626T153000
DTSTAMP:20260421T001553
CREATED:20260128T155035Z
LAST-MODIFIED:20260128T155035Z
UID:10002505-1782482400-1782487800@www.gaesdonck.de
SUMMARY:DPSG Truppstunde 5er bis 7er
DESCRIPTION:
URL:https://www.gaesdonck.de/event/dpsg-truppstunde-5er-bis-7er-12/
LOCATION:Die Gaesdonck\, Gaesdoncker Straße 220\, Goch\, 47574\, Germany
END:VEVENT
BEGIN:VEVENT
DTSTART;TZID=Europe/Berlin:20260626T140000
DTEND;TZID=Europe/Berlin:20260626T160000
DTSTAMP:20260421T001553
CREATED:20250904T133133Z
LAST-MODIFIED:20250904T133133Z
UID:10002402-1782482400-1782489600@www.gaesdonck.de
SUMMARY:Kunstschule "Forschen und Gestalten" sowie "Bildhauerei"
DESCRIPTION:
URL:https://www.gaesdonck.de/event/kunstschule-forschen-und-gestalten-sowie-bildhauerei-16/
LOCATION:Die Gaesdonck\, Gaesdoncker Straße 220\, Goch\, 47574\, Germany
END:VEVENT
BEGIN:VEVENT
DTSTART;VALUE=DATE:20260627
DTEND;VALUE=DATE:20260629
DTSTAMP:20260421T001553
CREATED:20260109T140836Z
LAST-MODIFIED:20260109T140836Z
UID:10002474-1782518400-1782691199@www.gaesdonck.de
SUMMARY:Internatswochenende
DESCRIPTION:
URL:https://www.gaesdonck.de/event/internatswochenende-24/
LOCATION:Die Gaesdonck\, Gaesdoncker Straße 220\, Goch\, 47574\, Germany
END:VEVENT
BEGIN:VEVENT
DTSTART;VALUE=DATE:20260628
DTEND;VALUE=DATE:20260629
DTSTAMP:20260421T001553
CREATED:20260112T152347Z
LAST-MODIFIED:20260112T152347Z
UID:10002488-1782604800-1782691199@www.gaesdonck.de
SUMMARY:Plenum Internat
DESCRIPTION:
URL:https://www.gaesdonck.de/event/plenum-internat-3/
LOCATION:Die Gaesdonck\, Gaesdoncker Straße 220\, Goch\, 47574\, Germany
END:VEVENT
BEGIN:VEVENT
DTSTART;VALUE=DATE:20260704
DTEND;VALUE=DATE:20260706
DTSTAMP:20260421T001553
CREATED:20260109T140926Z
LAST-MODIFIED:20260109T140926Z
UID:10002475-1783123200-1783295999@www.gaesdonck.de
SUMMARY:Freies Wochenende
DESCRIPTION:
URL:https://www.gaesdonck.de/event/freies-wochenende-25/
LOCATION:Die Gaesdonck\, Gaesdoncker Straße 220\, Goch\, 47574\, Germany
END:VEVENT
BEGIN:VEVENT
DTSTART;TZID=Europe/Berlin:20260708T150000
DTEND;TZID=Europe/Berlin:20260708T170000
DTSTAMP:20260421T001553
CREATED:20260112T154258Z
LAST-MODIFIED:20260112T154258Z
UID:10002489-1783522800-1783530000@www.gaesdonck.de
SUMMARY:Offene Sprechstunde der Schulleitung
DESCRIPTION:
URL:https://www.gaesdonck.de/event/offene-sprechstunde-der-schulleitung-18/
LOCATION:Die Gaesdonck\, Gaesdoncker Straße 220\, Goch\, 47574\, Germany
END:VEVENT
BEGIN:VEVENT
DTSTART;TZID=Europe/Berlin:20260709T170000
DTEND;TZID=Europe/Berlin:20260709T183000
DTSTAMP:20260421T001553
CREATED:20260128T153724Z
LAST-MODIFIED:20260128T153724Z
UID:10002498-1783616400-1783621800@www.gaesdonck.de
SUMMARY:DPSG Truppstunde 8er und 9er
DESCRIPTION:
URL:https://www.gaesdonck.de/event/dpsg-truppstunde-8er-und-9er-13/
LOCATION:Die Gaesdonck\, Gaesdoncker Straße 220\, Goch\, 47574\, Germany
END:VEVENT
BEGIN:VEVENT
DTSTART;TZID=Europe/Berlin:20260710T140000
DTEND;TZID=Europe/Berlin:20260710T153000
DTSTAMP:20260421T001553
CREATED:20260128T155124Z
LAST-MODIFIED:20260128T155124Z
UID:10002506-1783692000-1783697400@www.gaesdonck.de
SUMMARY:DPSG Truppstunde 5er bis 7er
DESCRIPTION:
URL:https://www.gaesdonck.de/event/dpsg-truppstunde-5er-bis-7er-13/
LOCATION:Die Gaesdonck\, Gaesdoncker Straße 220\, Goch\, 47574\, Germany
END:VEVENT
BEGIN:VEVENT
DTSTART;TZID=Europe/Berlin:20260710T140000
DTEND;TZID=Europe/Berlin:20260710T160000
DTSTAMP:20260421T001553
CREATED:20250904T133309Z
LAST-MODIFIED:20250904T133309Z
UID:10002403-1783692000-1783699200@www.gaesdonck.de
SUMMARY:Kunstschule "Forschen und Gestalten" sowie "Bildhauerei"
DESCRIPTION:
URL:https://www.gaesdonck.de/event/kunstschule-forschen-und-gestalten-sowie-bildhauerei-17/
LOCATION:Die Gaesdonck\, Gaesdoncker Straße 220\, Goch\, 47574\, Germany
END:VEVENT
BEGIN:VEVENT
DTSTART;VALUE=DATE:20260711
DTEND;VALUE=DATE:20260713
DTSTAMP:20260421T001553
CREATED:20260109T141004Z
LAST-MODIFIED:20260109T141004Z
UID:10002476-1783728000-1783900799@www.gaesdonck.de
SUMMARY:Internatswochenende
DESCRIPTION:
URL:https://www.gaesdonck.de/event/internatswochenende-25/
LOCATION:Die Gaesdonck\, Gaesdoncker Straße 220\, Goch\, 47574\, Germany
END:VEVENT
BEGIN:VEVENT
DTSTART;VALUE=DATE:20260717
DTEND;VALUE=DATE:20260718
DTSTAMP:20260421T001553
CREATED:20260109T141045Z
LAST-MODIFIED:20260112T153140Z
UID:10002477-1784246400-1784332799@www.gaesdonck.de
SUMMARY:Beginn der Sommerferien
DESCRIPTION:
URL:https://www.gaesdonck.de/event/ferienbeginn/
LOCATION:Die Gaesdonck\, Gaesdoncker Straße 220\, Goch\, 47574\, Germany
END:VEVENT
BEGIN:VEVENT
DTSTART;VALUE=DATE:20261017
DTEND;VALUE=DATE:20261018
DTSTAMP:20260421T001553
CREATED:20260130T143524Z
LAST-MODIFIED:20260420T144351Z
UID:10002509-1792195200-1792281599@www.gaesdonck.de
SUMMARY:Beginn der Herbstferien
DESCRIPTION:
URL:https://www.gaesdonck.de/event/beginn-der-herbstferien/
LOCATION:Die Gaesdonck\, Gaesdoncker Straße 220\, Goch\, 47574\, Germany
END:VEVENT
BEGIN:VEVENT
DTSTART;VALUE=DATE:20261017
DTEND;VALUE=DATE:20261025
DTSTAMP:20260421T001553
CREATED:20260130T143347Z
LAST-MODIFIED:20260130T143347Z
UID:10002508-1792195200-1792886399@www.gaesdonck.de
SUMMARY:DPSG Wanderlager
DESCRIPTION:
URL:https://www.gaesdonck.de/event/dpsg-wanderlager/
LOCATION:Die Gaesdonck\, Gaesdoncker Straße 220\, Goch\, 47574\, Germany
END:VEVENT
END:VCALENDAR