BEGIN:VCALENDAR
VERSION:2.0
PRODID:-//Die Gaesdonck - ECPv6.15.20//NONSGML v1.0//EN
CALSCALE:GREGORIAN
METHOD:PUBLISH
X-WR-CALNAME:Die Gaesdonck
X-ORIGINAL-URL:https://www.gaesdonck.de
X-WR-CALDESC:Veranstaltungen für Die Gaesdonck
REFRESH-INTERVAL;VALUE=DURATION:PT1H
X-Robots-Tag:noindex
X-PUBLISHED-TTL:PT1H
BEGIN:VTIMEZONE
TZID:Europe/Berlin
BEGIN:DAYLIGHT
TZOFFSETFROM:+0100
TZOFFSETTO:+0200
TZNAME:CEST
DTSTART:20250330T010000
END:DAYLIGHT
BEGIN:STANDARD
TZOFFSETFROM:+0200
TZOFFSETTO:+0100
TZNAME:CET
DTSTART:20251026T010000
END:STANDARD
BEGIN:DAYLIGHT
TZOFFSETFROM:+0100
TZOFFSETTO:+0200
TZNAME:CEST
DTSTART:20260329T010000
END:DAYLIGHT
BEGIN:STANDARD
TZOFFSETFROM:+0200
TZOFFSETTO:+0100
TZNAME:CET
DTSTART:20261025T010000
END:STANDARD
BEGIN:DAYLIGHT
TZOFFSETFROM:+0100
TZOFFSETTO:+0200
TZNAME:CEST
DTSTART:20270328T010000
END:DAYLIGHT
BEGIN:STANDARD
TZOFFSETFROM:+0200
TZOFFSETTO:+0100
TZNAME:CET
DTSTART:20271031T010000
END:STANDARD
END:VTIMEZONE
BEGIN:VEVENT
DTSTART;TZID=Europe/Berlin:20260221T090000
DTEND;TZID=Europe/Berlin:20260221T120000
DTSTAMP:20260421T034452
CREATED:20251201T131740Z
LAST-MODIFIED:20251201T131740Z
UID:10002435-1771664400-1771675200@www.gaesdonck.de
SUMMARY:Kinder College
DESCRIPTION:
URL:https://www.gaesdonck.de/event/kinder-college-5/
LOCATION:Die Gaesdonck\, Gaesdoncker Straße 220\, Goch\, 47574\, Germany
END:VEVENT
BEGIN:VEVENT
DTSTART;VALUE=DATE:20260221
DTEND;VALUE=DATE:20260223
DTSTAMP:20260421T034452
CREATED:20251201T133133Z
LAST-MODIFIED:20251201T133133Z
UID:10002442-1771632000-1771804799@www.gaesdonck.de
SUMMARY:Internatswochenende
DESCRIPTION:
URL:https://www.gaesdonck.de/event/internatswochenende-7/
LOCATION:Die Gaesdonck\, Gaesdoncker Straße 220\, Goch\, 47574\, Germany
END:VEVENT
BEGIN:VEVENT
DTSTART;VALUE=DATE:20260221
DTEND;VALUE=DATE:20260222
DTSTAMP:20260421T034452
CREATED:20260202T161731Z
LAST-MODIFIED:20260202T161731Z
UID:10002510-1771632000-1771718399@www.gaesdonck.de
SUMMARY:Treffen der Abiturientia 1962
DESCRIPTION:
URL:https://www.gaesdonck.de/event/treffen-der-abiturientia-1962/
LOCATION:Die Gaesdonck\, Gaesdoncker Straße 220\, Goch\, 47574\, Germany
END:VEVENT
BEGIN:VEVENT
DTSTART;TZID=Europe/Berlin:20260220T140000
DTEND;TZID=Europe/Berlin:20260220T160000
DTSTAMP:20260421T034452
CREATED:20250904T132414Z
LAST-MODIFIED:20250904T132414Z
UID:10002395-1771596000-1771603200@www.gaesdonck.de
SUMMARY:Kunstschule "Forschen und Gestalten" sowie "Bildhauerei"
DESCRIPTION:
URL:https://www.gaesdonck.de/event/kunstschule-forschen-und-gestalten-sowie-bildhauerei-10/
LOCATION:Die Gaesdonck\, Gaesdoncker Straße 220\, Goch\, 47574\, Germany
END:VEVENT
BEGIN:VEVENT
DTSTART;TZID=Europe/Berlin:20260220T140000
DTEND;TZID=Europe/Berlin:20260220T153000
DTSTAMP:20260421T034452
CREATED:20260128T154522Z
LAST-MODIFIED:20260128T154522Z
UID:10002500-1771596000-1771601400@www.gaesdonck.de
SUMMARY:DPSG Truppstunde 5er bis 7er
DESCRIPTION:
URL:https://www.gaesdonck.de/event/dpsg-truppstunde-5er-bis-7er-7/
LOCATION:Die Gaesdonck\, Gaesdoncker Straße 220\, Goch\, 47574\, Germany
END:VEVENT
BEGIN:VEVENT
DTSTART;TZID=Europe/Berlin:20260219T170000
DTEND;TZID=Europe/Berlin:20260219T183000
DTSTAMP:20260421T034452
CREATED:20260128T153240Z
LAST-MODIFIED:20260128T153240Z
UID:10002492-1771520400-1771525800@www.gaesdonck.de
SUMMARY:DPSG Truppstunde 8er und 9er
DESCRIPTION:
URL:https://www.gaesdonck.de/event/dpsg-truppstunde-8er-und-9er-7/
LOCATION:Die Gaesdonck\, Gaesdoncker Straße 220\, Goch\, 47574\, Germany
END:VEVENT
BEGIN:VEVENT
DTSTART;TZID=Europe/Berlin:20260218T150000
DTEND;TZID=Europe/Berlin:20260218T170000
DTSTAMP:20260421T034452
CREATED:20251201T134137Z
LAST-MODIFIED:20251201T134137Z
UID:10002450-1771426800-1771434000@www.gaesdonck.de
SUMMARY:Offene Sprechstunde der Schulleitung
DESCRIPTION:
URL:https://www.gaesdonck.de/event/offene-sprechstunde-der-schulleitung-12/
LOCATION:Die Gaesdonck\, Gaesdoncker Straße 220\, Goch\, 47574\, Germany
END:VEVENT
BEGIN:VEVENT
DTSTART;VALUE=DATE:20260218
DTEND;VALUE=DATE:20260219
DTSTAMP:20260421T034452
CREATED:20251201T133515Z
LAST-MODIFIED:20251201T133823Z
UID:10002448-1771372800-1771459199@www.gaesdonck.de
SUMMARY:Aschermittwoch
DESCRIPTION:
URL:https://www.gaesdonck.de/event/aschermittwoch-schulmessen/
LOCATION:Die Gaesdonck\, Gaesdoncker Straße 220\, Goch\, 47574\, Germany
END:VEVENT
BEGIN:VEVENT
DTSTART;VALUE=DATE:20260217
DTEND;VALUE=DATE:20260218
DTSTAMP:20260421T034452
CREATED:20251201T133433Z
LAST-MODIFIED:20251201T133433Z
UID:10002447-1771286400-1771372799@www.gaesdonck.de
SUMMARY:Beweglicher Ferientag
DESCRIPTION:
URL:https://www.gaesdonck.de/event/beweglicher-ferientag-4/
LOCATION:Die Gaesdonck\, Gaesdoncker Straße 220\, Goch\, 47574\, Germany
END:VEVENT
BEGIN:VEVENT
DTSTART;VALUE=DATE:20260216
DTEND;VALUE=DATE:20260217
DTSTAMP:20260421T034452
CREATED:20251201T133358Z
LAST-MODIFIED:20251201T133358Z
UID:10002446-1771200000-1771286399@www.gaesdonck.de
SUMMARY:Beweglicher Ferientag
DESCRIPTION:
URL:https://www.gaesdonck.de/event/beweglicher-ferientag-3/
LOCATION:Die Gaesdonck\, Gaesdoncker Straße 220\, Goch\, 47574\, Germany
END:VEVENT
BEGIN:VEVENT
DTSTART;VALUE=DATE:20260214
DTEND;VALUE=DATE:20260216
DTSTAMP:20260421T034452
CREATED:20251201T133207Z
LAST-MODIFIED:20251201T133207Z
UID:10002443-1771027200-1771199999@www.gaesdonck.de
SUMMARY:Freies Wochenende
DESCRIPTION:
URL:https://www.gaesdonck.de/event/freies-wochenende-8/
LOCATION:Die Gaesdonck\, Gaesdoncker Straße 220\, Goch\, 47574\, Germany
END:VEVENT
BEGIN:VEVENT
DTSTART;VALUE=DATE:20260213
DTEND;VALUE=DATE:20260214
DTSTAMP:20260421T034452
CREATED:20251201T133326Z
LAST-MODIFIED:20251201T133326Z
UID:10002445-1770940800-1771027199@www.gaesdonck.de
SUMMARY:Beweglicher Ferientag
DESCRIPTION:
URL:https://www.gaesdonck.de/event/beweglicher-ferientag/
LOCATION:Die Gaesdonck\, Gaesdoncker Straße 220\, Goch\, 47574\, Germany
END:VEVENT
BEGIN:VEVENT
DTSTART;VALUE=DATE:20260212
DTEND;VALUE=DATE:20260213
DTSTAMP:20260421T034452
CREATED:20251201T134541Z
LAST-MODIFIED:20251201T134541Z
UID:10002452-1770854400-1770940799@www.gaesdonck.de
SUMMARY:Studientag SuS
DESCRIPTION:
URL:https://www.gaesdonck.de/event/studientag-sus-3/
LOCATION:Die Gaesdonck\, Gaesdoncker Straße 220\, Goch\, 47574\, Germany
END:VEVENT
BEGIN:VEVENT
DTSTART;VALUE=DATE:20260212
DTEND;VALUE=DATE:20260213
DTSTAMP:20260421T034452
CREATED:20251201T134455Z
LAST-MODIFIED:20251201T134455Z
UID:10002451-1770854400-1770940799@www.gaesdonck.de
SUMMARY:Fortbildungstag
DESCRIPTION:
URL:https://www.gaesdonck.de/event/fortbildungstag/
LOCATION:Die Gaesdonck\, Gaesdoncker Straße 220\, Goch\, 47574\, Germany
END:VEVENT
BEGIN:VEVENT
DTSTART;VALUE=DATE:20260209
DTEND;VALUE=DATE:20260211
DTSTAMP:20260421T034452
CREATED:20251201T134630Z
LAST-MODIFIED:20251201T134630Z
UID:10002453-1770595200-1770767999@www.gaesdonck.de
SUMMARY:Infotage Internat
DESCRIPTION:
URL:https://www.gaesdonck.de/event/infotage-internat-2/
LOCATION:Die Gaesdonck\, Gaesdoncker Straße 220\, Goch\, 47574\, Germany
END:VEVENT
BEGIN:VEVENT
DTSTART;TZID=Europe/Berlin:20260207T090000
DTEND;TZID=Europe/Berlin:20260207T120000
DTSTAMP:20260421T034452
CREATED:20251201T131700Z
LAST-MODIFIED:20251201T131700Z
UID:10002434-1770454800-1770465600@www.gaesdonck.de
SUMMARY:Kinder College
DESCRIPTION:
URL:https://www.gaesdonck.de/event/kinder-college-4/
LOCATION:Die Gaesdonck\, Gaesdoncker Straße 220\, Goch\, 47574\, Germany
END:VEVENT
BEGIN:VEVENT
DTSTART;VALUE=DATE:20260207
DTEND;VALUE=DATE:20260209
DTSTAMP:20260421T034452
CREATED:20251201T133053Z
LAST-MODIFIED:20251201T133053Z
UID:10002441-1770422400-1770595199@www.gaesdonck.de
SUMMARY:Internatswochenende
DESCRIPTION:
URL:https://www.gaesdonck.de/event/internatswochenende-5/
LOCATION:Die Gaesdonck\, Gaesdoncker Straße 220\, Goch\, 47574\, Germany
END:VEVENT
BEGIN:VEVENT
DTSTART;TZID=Europe/Berlin:20260206T140000
DTEND;TZID=Europe/Berlin:20260206T160000
DTSTAMP:20260421T034452
CREATED:20250904T132257Z
LAST-MODIFIED:20250904T132257Z
UID:10002394-1770386400-1770393600@www.gaesdonck.de
SUMMARY:Kunstschule "Forschen und Gestalten" sowie "Bildhauerei"
DESCRIPTION:
URL:https://www.gaesdonck.de/event/kunstschule-forschen-und-gestalten-sowie-bildhauerei-9/
LOCATION:Die Gaesdonck\, Gaesdoncker Straße 220\, Goch\, 47574\, Germany
END:VEVENT
BEGIN:VEVENT
DTSTART;TZID=Europe/Berlin:20260206T140000
DTEND;TZID=Europe/Berlin:20260206T153000
DTSTAMP:20260421T034452
CREATED:20260128T154423Z
LAST-MODIFIED:20260128T154423Z
UID:10002499-1770386400-1770391800@www.gaesdonck.de
SUMMARY:DPSG Truppstunde 5er bis 7er
DESCRIPTION:
URL:https://www.gaesdonck.de/event/dpsg-truppstunde-5er-bis-7er-6/
LOCATION:Die Gaesdonck\, Gaesdoncker Straße 220\, Goch\, 47574\, Germany
END:VEVENT
BEGIN:VEVENT
DTSTART;TZID=Europe/Berlin:20260205T170000
DTEND;TZID=Europe/Berlin:20260205T183000
DTSTAMP:20260421T034452
CREATED:20260128T153155Z
LAST-MODIFIED:20260128T153155Z
UID:10002491-1770310800-1770316200@www.gaesdonck.de
SUMMARY:DPSG Truppstunde 8er und 9er
DESCRIPTION:
URL:https://www.gaesdonck.de/event/dpsg-truppstunde-8er-und-9er-6/
LOCATION:Die Gaesdonck\, Gaesdoncker Straße 220\, Goch\, 47574\, Germany
END:VEVENT
BEGIN:VEVENT
DTSTART;VALUE=DATE:20260204
DTEND;VALUE=DATE:20260206
DTSTAMP:20260421T034452
CREATED:20251201T135424Z
LAST-MODIFIED:20251201T135424Z
UID:10002454-1770163200-1770335999@www.gaesdonck.de
SUMMARY:Infotage Internat
DESCRIPTION:
URL:https://www.gaesdonck.de/event/infotage-internat-3/
LOCATION:Die Gaesdonck\, Gaesdoncker Straße 220\, Goch\, 47574\, Germany
END:VEVENT
BEGIN:VEVENT
DTSTART;VALUE=DATE:20260131
DTEND;VALUE=DATE:20260202
DTSTAMP:20260421T034452
CREATED:20250819T145149Z
LAST-MODIFIED:20250819T145149Z
UID:10002361-1769817600-1769990399@www.gaesdonck.de
SUMMARY:Freies Wochenende
DESCRIPTION:
URL:https://www.gaesdonck.de/event/freies-wochenende-22/
LOCATION:Die Gaesdonck\, Gaesdoncker Straße 220\, Goch\, 47574\, Germany
END:VEVENT
BEGIN:VEVENT
DTSTART;TZID=Europe/Berlin:20260124T090000
DTEND;TZID=Europe/Berlin:20260124T120000
DTSTAMP:20260421T034452
CREATED:20250819T143259Z
LAST-MODIFIED:20251128T122939Z
UID:10002352-1769245200-1769256000@www.gaesdonck.de
SUMMARY:Kinder College
DESCRIPTION:
URL:https://www.gaesdonck.de/event/kinder-college/
LOCATION:Die Gaesdonck\, Gaesdoncker Straße 220\, Goch\, 47574\, Germany
END:VEVENT
BEGIN:VEVENT
DTSTART;VALUE=DATE:20260124
DTEND;VALUE=DATE:20260126
DTSTAMP:20260421T034452
CREATED:20250819T143030Z
LAST-MODIFIED:20250819T143030Z
UID:10002351-1769212800-1769385599@www.gaesdonck.de
SUMMARY:Internatswochenende
DESCRIPTION:
URL:https://www.gaesdonck.de/event/internatswochenende-16/
LOCATION:Die Gaesdonck\, Gaesdoncker Straße 220\, Goch\, 47574\, Germany
END:VEVENT
BEGIN:VEVENT
DTSTART;TZID=Europe/Berlin:20260123T140000
DTEND;TZID=Europe/Berlin:20260123T160000
DTSTAMP:20260421T034452
CREATED:20250904T131236Z
LAST-MODIFIED:20250904T131236Z
UID:10002393-1769176800-1769184000@www.gaesdonck.de
SUMMARY:Kunstschule "Forschen und Gestalten" sowie "Bildhauerei"
DESCRIPTION:
URL:https://www.gaesdonck.de/event/kunstschule-forschen-und-gestalten-sowie-bildhauerei-8/
LOCATION:Die Gaesdonck\, Gaesdoncker Straße 220\, Goch\, 47574\, Germany
END:VEVENT
BEGIN:VEVENT
DTSTART;VALUE=DATE:20260117
DTEND;VALUE=DATE:20260119
DTSTAMP:20260421T034452
CREATED:20251128T120945Z
LAST-MODIFIED:20251128T120945Z
UID:10002432-1768608000-1768780799@www.gaesdonck.de
SUMMARY:Freies Wochenende
DESCRIPTION:
URL:https://www.gaesdonck.de/event/freies-wochenende-7/
LOCATION:Die Gaesdonck\, Gaesdoncker Straße 220\, Goch\, 47574\, Germany
END:VEVENT
BEGIN:VEVENT
DTSTART;TZID=Europe/Berlin:20260114T150000
DTEND;TZID=Europe/Berlin:20260114T170000
DTSTAMP:20260421T034452
CREATED:20250819T145814Z
LAST-MODIFIED:20250819T145814Z
UID:10002366-1768402800-1768410000@www.gaesdonck.de
SUMMARY:Offene Sprechstunde der Schulleitung
DESCRIPTION:
URL:https://www.gaesdonck.de/event/offene-sprechstunde-der-schulleitung-11/
LOCATION:Die Gaesdonck\, Gaesdoncker Straße 220\, Goch\, 47574\, Germany
END:VEVENT
BEGIN:VEVENT
DTSTART;TZID=Europe/Berlin:20260110T090000
DTEND;TZID=Europe/Berlin:20260110T120000
DTSTAMP:20260421T034452
CREATED:20251128T120728Z
LAST-MODIFIED:20251128T120728Z
UID:10002431-1768035600-1768046400@www.gaesdonck.de
SUMMARY:Kinder College
DESCRIPTION:
URL:https://www.gaesdonck.de/event/kinder-college-3/
LOCATION:Die Gaesdonck\, Gaesdoncker Straße 220\, Goch\, 47574\, Germany
END:VEVENT
BEGIN:VEVENT
DTSTART;VALUE=DATE:20260110
DTEND;VALUE=DATE:20260112
DTSTAMP:20260421T034452
CREATED:20250819T142849Z
LAST-MODIFIED:20250819T142849Z
UID:10002349-1768003200-1768175999@www.gaesdonck.de
SUMMARY:Internatswochenende
DESCRIPTION:
URL:https://www.gaesdonck.de/event/internatswochenende-14/
LOCATION:Die Gaesdonck\, Gaesdoncker Straße 220\, Goch\, 47574\, Germany
END:VEVENT
BEGIN:VEVENT
DTSTART;TZID=Europe/Berlin:20260109T140000
DTEND;TZID=Europe/Berlin:20260109T160000
DTSTAMP:20260421T034452
CREATED:20250904T131056Z
LAST-MODIFIED:20250904T131056Z
UID:10002392-1767967200-1767974400@www.gaesdonck.de
SUMMARY:Kunstschule "Forschen und Gestalten" sowie "Bildhauerei"
DESCRIPTION:
URL:https://www.gaesdonck.de/event/kunstschule-forschen-und-gestalten-sowie-bildhauerei-7/
LOCATION:Die Gaesdonck\, Gaesdoncker Straße 220\, Goch\, 47574\, Germany
END:VEVENT
END:VCALENDAR