BEGIN:VCALENDAR
VERSION:2.0
PRODID:-//Die Gaesdonck - ECPv6.15.20//NONSGML v1.0//EN
CALSCALE:GREGORIAN
METHOD:PUBLISH
X-ORIGINAL-URL:https://www.gaesdonck.de
X-WR-CALDESC:Veranstaltungen für Die Gaesdonck
REFRESH-INTERVAL;VALUE=DURATION:PT1H
X-Robots-Tag:noindex
X-PUBLISHED-TTL:PT1H
BEGIN:VTIMEZONE
TZID:Europe/Berlin
BEGIN:DAYLIGHT
TZOFFSETFROM:+0100
TZOFFSETTO:+0200
TZNAME:CEST
DTSTART:20240331T010000
END:DAYLIGHT
BEGIN:STANDARD
TZOFFSETFROM:+0200
TZOFFSETTO:+0100
TZNAME:CET
DTSTART:20241027T010000
END:STANDARD
BEGIN:DAYLIGHT
TZOFFSETFROM:+0100
TZOFFSETTO:+0200
TZNAME:CEST
DTSTART:20250330T010000
END:DAYLIGHT
BEGIN:STANDARD
TZOFFSETFROM:+0200
TZOFFSETTO:+0100
TZNAME:CET
DTSTART:20251026T010000
END:STANDARD
BEGIN:DAYLIGHT
TZOFFSETFROM:+0100
TZOFFSETTO:+0200
TZNAME:CEST
DTSTART:20260329T010000
END:DAYLIGHT
BEGIN:STANDARD
TZOFFSETFROM:+0200
TZOFFSETTO:+0100
TZNAME:CET
DTSTART:20261025T010000
END:STANDARD
BEGIN:DAYLIGHT
TZOFFSETFROM:+0100
TZOFFSETTO:+0200
TZNAME:CEST
DTSTART:20270328T010000
END:DAYLIGHT
BEGIN:STANDARD
TZOFFSETFROM:+0200
TZOFFSETTO:+0100
TZNAME:CET
DTSTART:20271031T010000
END:STANDARD
END:VTIMEZONE
BEGIN:VEVENT
DTSTART;VALUE=DATE:20260204
DTEND;VALUE=DATE:20260206
DTSTAMP:20260421T071912
CREATED:20251201T135424Z
LAST-MODIFIED:20251201T135424Z
UID:10002454-1770163200-1770335999@www.gaesdonck.de
SUMMARY:Infotage Internat
DESCRIPTION:
URL:https://www.gaesdonck.de/event/infotage-internat-3/
LOCATION:Die Gaesdonck\, Gaesdoncker Straße 220\, Goch\, 47574\, Germany
END:VEVENT
BEGIN:VEVENT
DTSTART;VALUE=DATE:20260131
DTEND;VALUE=DATE:20260202
DTSTAMP:20260421T071912
CREATED:20250819T145149Z
LAST-MODIFIED:20250819T145149Z
UID:10002361-1769817600-1769990399@www.gaesdonck.de
SUMMARY:Freies Wochenende
DESCRIPTION:
URL:https://www.gaesdonck.de/event/freies-wochenende-22/
LOCATION:Die Gaesdonck\, Gaesdoncker Straße 220\, Goch\, 47574\, Germany
END:VEVENT
BEGIN:VEVENT
DTSTART;TZID=Europe/Berlin:20260124T090000
DTEND;TZID=Europe/Berlin:20260124T120000
DTSTAMP:20260421T071912
CREATED:20250819T143259Z
LAST-MODIFIED:20251128T122939Z
UID:10002352-1769245200-1769256000@www.gaesdonck.de
SUMMARY:Kinder College
DESCRIPTION:
URL:https://www.gaesdonck.de/event/kinder-college/
LOCATION:Die Gaesdonck\, Gaesdoncker Straße 220\, Goch\, 47574\, Germany
END:VEVENT
BEGIN:VEVENT
DTSTART;VALUE=DATE:20260124
DTEND;VALUE=DATE:20260126
DTSTAMP:20260421T071912
CREATED:20250819T143030Z
LAST-MODIFIED:20250819T143030Z
UID:10002351-1769212800-1769385599@www.gaesdonck.de
SUMMARY:Internatswochenende
DESCRIPTION:
URL:https://www.gaesdonck.de/event/internatswochenende-16/
LOCATION:Die Gaesdonck\, Gaesdoncker Straße 220\, Goch\, 47574\, Germany
END:VEVENT
BEGIN:VEVENT
DTSTART;TZID=Europe/Berlin:20260123T140000
DTEND;TZID=Europe/Berlin:20260123T160000
DTSTAMP:20260421T071912
CREATED:20250904T131236Z
LAST-MODIFIED:20250904T131236Z
UID:10002393-1769176800-1769184000@www.gaesdonck.de
SUMMARY:Kunstschule "Forschen und Gestalten" sowie "Bildhauerei"
DESCRIPTION:
URL:https://www.gaesdonck.de/event/kunstschule-forschen-und-gestalten-sowie-bildhauerei-8/
LOCATION:Die Gaesdonck\, Gaesdoncker Straße 220\, Goch\, 47574\, Germany
END:VEVENT
BEGIN:VEVENT
DTSTART;VALUE=DATE:20260117
DTEND;VALUE=DATE:20260119
DTSTAMP:20260421T071912
CREATED:20251128T120945Z
LAST-MODIFIED:20251128T120945Z
UID:10002432-1768608000-1768780799@www.gaesdonck.de
SUMMARY:Freies Wochenende
DESCRIPTION:
URL:https://www.gaesdonck.de/event/freies-wochenende-7/
LOCATION:Die Gaesdonck\, Gaesdoncker Straße 220\, Goch\, 47574\, Germany
END:VEVENT
BEGIN:VEVENT
DTSTART;TZID=Europe/Berlin:20260114T150000
DTEND;TZID=Europe/Berlin:20260114T170000
DTSTAMP:20260421T071912
CREATED:20250819T145814Z
LAST-MODIFIED:20250819T145814Z
UID:10002366-1768402800-1768410000@www.gaesdonck.de
SUMMARY:Offene Sprechstunde der Schulleitung
DESCRIPTION:
URL:https://www.gaesdonck.de/event/offene-sprechstunde-der-schulleitung-11/
LOCATION:Die Gaesdonck\, Gaesdoncker Straße 220\, Goch\, 47574\, Germany
END:VEVENT
BEGIN:VEVENT
DTSTART;TZID=Europe/Berlin:20260110T090000
DTEND;TZID=Europe/Berlin:20260110T120000
DTSTAMP:20260421T071912
CREATED:20251128T120728Z
LAST-MODIFIED:20251128T120728Z
UID:10002431-1768035600-1768046400@www.gaesdonck.de
SUMMARY:Kinder College
DESCRIPTION:
URL:https://www.gaesdonck.de/event/kinder-college-3/
LOCATION:Die Gaesdonck\, Gaesdoncker Straße 220\, Goch\, 47574\, Germany
END:VEVENT
BEGIN:VEVENT
DTSTART;VALUE=DATE:20260110
DTEND;VALUE=DATE:20260112
DTSTAMP:20260421T071912
CREATED:20250819T142849Z
LAST-MODIFIED:20250819T142849Z
UID:10002349-1768003200-1768175999@www.gaesdonck.de
SUMMARY:Internatswochenende
DESCRIPTION:
URL:https://www.gaesdonck.de/event/internatswochenende-14/
LOCATION:Die Gaesdonck\, Gaesdoncker Straße 220\, Goch\, 47574\, Germany
END:VEVENT
BEGIN:VEVENT
DTSTART;TZID=Europe/Berlin:20260109T140000
DTEND;TZID=Europe/Berlin:20260109T160000
DTSTAMP:20260421T071912
CREATED:20250904T131056Z
LAST-MODIFIED:20250904T131056Z
UID:10002392-1767967200-1767974400@www.gaesdonck.de
SUMMARY:Kunstschule "Forschen und Gestalten" sowie "Bildhauerei"
DESCRIPTION:
URL:https://www.gaesdonck.de/event/kunstschule-forschen-und-gestalten-sowie-bildhauerei-7/
LOCATION:Die Gaesdonck\, Gaesdoncker Straße 220\, Goch\, 47574\, Germany
END:VEVENT
BEGIN:VEVENT
DTSTART;TZID=Europe/Berlin:20251224T170000
DTEND;TZID=Europe/Berlin:20251224T170000
DTSTAMP:20260421T071912
CREATED:20251128T115432Z
LAST-MODIFIED:20251128T115432Z
UID:10002429-1766595600-1766595600@www.gaesdonck.de
SUMMARY:Christmette Klosterkirche
DESCRIPTION:
URL:https://www.gaesdonck.de/event/christmette-klosterkirche-2/
LOCATION:Die Gaesdonck\, Gaesdoncker Straße 220\, Goch\, 47574\, Germany
END:VEVENT
BEGIN:VEVENT
DTSTART;VALUE=DATE:20251221
DTEND;VALUE=DATE:20251222
DTSTAMP:20260421T071912
CREATED:20250819T150727Z
LAST-MODIFIED:20250819T150727Z
UID:10002378-1766275200-1766361599@www.gaesdonck.de
SUMMARY:4. Advent
DESCRIPTION:
URL:https://www.gaesdonck.de/event/4-advent/
LOCATION:Die Gaesdonck\, Gaesdoncker Straße 220\, Goch\, 47574\, Germany
END:VEVENT
BEGIN:VEVENT
DTSTART;VALUE=DATE:20251220
DTEND;VALUE=DATE:20251221
DTSTAMP:20260421T071912
CREATED:20250819T150655Z
LAST-MODIFIED:20250819T150655Z
UID:10002377-1766188800-1766275199@www.gaesdonck.de
SUMMARY:Beginn der Weihnachtsferien
DESCRIPTION:
URL:https://www.gaesdonck.de/event/beginn-der-weihnachtsferien-2/
LOCATION:Die Gaesdonck\, Gaesdoncker Straße 220\, Goch\, 47574\, Germany
END:VEVENT
BEGIN:VEVENT
DTSTART;TZID=Europe/Berlin:20251214T160000
DTEND;TZID=Europe/Berlin:20251214T160000
DTSTAMP:20260421T071912
CREATED:20251128T114820Z
LAST-MODIFIED:20251128T115637Z
UID:10002428-1765728000-1765728000@www.gaesdonck.de
SUMMARY:Adventskonzert
DESCRIPTION:
URL:https://www.gaesdonck.de/event/adventskonzert/
LOCATION:Die Gaesdonck\, Gaesdoncker Straße 220\, Goch\, 47574\, Germany
END:VEVENT
BEGIN:VEVENT
DTSTART;VALUE=DATE:20251214
DTEND;VALUE=DATE:20251215
DTSTAMP:20260421T071912
CREATED:20250819T150625Z
LAST-MODIFIED:20250819T150625Z
UID:10002376-1765670400-1765756799@www.gaesdonck.de
SUMMARY:3. Advent
DESCRIPTION:
URL:https://www.gaesdonck.de/event/3-advent/
LOCATION:Die Gaesdonck\, Gaesdoncker Straße 220\, Goch\, 47574\, Germany
END:VEVENT
BEGIN:VEVENT
DTSTART;TZID=Europe/Berlin:20251213T090000
DTEND;TZID=Europe/Berlin:20251213T120000
DTSTAMP:20260421T071912
CREATED:20251128T120439Z
LAST-MODIFIED:20251128T120439Z
UID:10002430-1765616400-1765627200@www.gaesdonck.de
SUMMARY:Kinder College
DESCRIPTION:
URL:https://www.gaesdonck.de/event/kinder-college-2/
LOCATION:Die Gaesdonck\, Gaesdoncker Straße 220\, Goch\, 47574\, Germany
END:VEVENT
BEGIN:VEVENT
DTSTART;VALUE=DATE:20251213
DTEND;VALUE=DATE:20251215
DTSTAMP:20260421T071912
CREATED:20250819T142936Z
LAST-MODIFIED:20250819T142936Z
UID:10002350-1765584000-1765756799@www.gaesdonck.de
SUMMARY:Internatswochenende
DESCRIPTION:
URL:https://www.gaesdonck.de/event/internatswochenende-15/
LOCATION:Die Gaesdonck\, Gaesdoncker Straße 220\, Goch\, 47574\, Germany
END:VEVENT
BEGIN:VEVENT
DTSTART;TZID=Europe/Berlin:20251212T140000
DTEND;TZID=Europe/Berlin:20251212T160000
DTSTAMP:20260421T071912
CREATED:20250904T130937Z
LAST-MODIFIED:20250904T130937Z
UID:10002391-1765548000-1765555200@www.gaesdonck.de
SUMMARY:Kunstschule "Forschen und Gestalten" sowie "Bildhauerei"
DESCRIPTION:
URL:https://www.gaesdonck.de/event/kunstschule-forschen-und-gestalten-sowie-bildhauerei-6/
LOCATION:Die Gaesdonck\, Gaesdoncker Straße 220\, Goch\, 47574\, Germany
END:VEVENT
BEGIN:VEVENT
DTSTART;TZID=Europe/Berlin:20251212T140000
DTEND;TZID=Europe/Berlin:20251212T153000
DTSTAMP:20260421T071912
CREATED:20250904T150721Z
LAST-MODIFIED:20250904T150721Z
UID:10002413-1765548000-1765553400@www.gaesdonck.de
SUMMARY:DPSG Truppstunde 5er bis 7er
DESCRIPTION:
URL:https://www.gaesdonck.de/event/dpsg-truppstunde-5er-bis-7er-5/
LOCATION:Die Gaesdonck\, Gaesdoncker Straße 220\, Goch\, 47574\, Germany
END:VEVENT
BEGIN:VEVENT
DTSTART;TZID=Europe/Berlin:20251211T170000
DTEND;TZID=Europe/Berlin:20251211T183000
DTSTAMP:20260421T071912
CREATED:20250904T145825Z
LAST-MODIFIED:20250904T145825Z
UID:10002408-1765472400-1765477800@www.gaesdonck.de
SUMMARY:DPSG Truppstunde 8er und 9er
DESCRIPTION:
URL:https://www.gaesdonck.de/event/dpsg-truppstunde-8er-und-9er-5/
LOCATION:Die Gaesdonck\, Gaesdoncker Straße 220\, Goch\, 47574\, Germany
END:VEVENT
BEGIN:VEVENT
DTSTART;TZID=Europe/Berlin:20251210T150000
DTEND;TZID=Europe/Berlin:20251210T170000
DTSTAMP:20260421T071912
CREATED:20250819T145728Z
LAST-MODIFIED:20250819T145728Z
UID:10002365-1765378800-1765386000@www.gaesdonck.de
SUMMARY:Offene Sprechstunde der Schulleitung
DESCRIPTION:
URL:https://www.gaesdonck.de/event/offene-sprechstunde-der-schulleitung-10/
LOCATION:Die Gaesdonck\, Gaesdoncker Straße 220\, Goch\, 47574\, Germany
END:VEVENT
BEGIN:VEVENT
DTSTART;VALUE=DATE:20251207
DTEND;VALUE=DATE:20251208
DTSTAMP:20260421T071912
CREATED:20250819T150551Z
LAST-MODIFIED:20250819T150551Z
UID:10002375-1765065600-1765151999@www.gaesdonck.de
SUMMARY:2. Advent
DESCRIPTION:
URL:https://www.gaesdonck.de/event/2-advent/
LOCATION:Die Gaesdonck\, Gaesdoncker Straße 220\, Goch\, 47574\, Germany
END:VEVENT
BEGIN:VEVENT
DTSTART;VALUE=DATE:20251206
DTEND;VALUE=DATE:20251208
DTSTAMP:20260421T071912
CREATED:20250819T144641Z
LAST-MODIFIED:20250819T144641Z
UID:10002359-1764979200-1765151999@www.gaesdonck.de
SUMMARY:Freies Wochenende
DESCRIPTION:
URL:https://www.gaesdonck.de/event/freies-wochenende-6/
LOCATION:Die Gaesdonck\, Gaesdoncker Straße 220\, Goch\, 47574\, Germany
END:VEVENT
BEGIN:VEVENT
DTSTART;TZID=Europe/Berlin:20251205T173000
DTEND;TZID=Europe/Berlin:20251206T110000
DTSTAMP:20260421T071912
CREATED:20250904T152057Z
LAST-MODIFIED:20250904T152057Z
UID:10002417-1764955800-1765018800@www.gaesdonck.de
SUMMARY:DPSG Weihnachtsfeier
DESCRIPTION:
URL:https://www.gaesdonck.de/event/dpsg-weihnachtsfeier/
LOCATION:Die Gaesdonck\, Gaesdoncker Straße 220\, Goch\, 47574\, Germany
END:VEVENT
BEGIN:VEVENT
DTSTART;TZID=Europe/Berlin:20251203T190000
DTEND;TZID=Europe/Berlin:20251203T190000
DTSTAMP:20260421T071912
CREATED:20251128T121722Z
LAST-MODIFIED:20251128T121952Z
UID:10002433-1764788400-1764788400@www.gaesdonck.de
SUMMARY:Studium Generale
DESCRIPTION:
URL:https://www.gaesdonck.de/event/studium-generale-2/
LOCATION:Die Gaesdonck\, Gaesdoncker Straße 220\, Goch\, 47574\, Germany
END:VEVENT
BEGIN:VEVENT
DTSTART;VALUE=DATE:20251130
DTEND;VALUE=DATE:20251201
DTSTAMP:20260421T071912
CREATED:20250819T150431Z
LAST-MODIFIED:20250819T150431Z
UID:10002373-1764460800-1764547199@www.gaesdonck.de
SUMMARY:1. Advent
DESCRIPTION:
URL:https://www.gaesdonck.de/event/1-advent/
LOCATION:Die Gaesdonck\, Gaesdoncker Straße 220\, Goch\, 47574\, Germany
END:VEVENT
BEGIN:VEVENT
DTSTART;VALUE=DATE:20251129
DTEND;VALUE=DATE:20251201
DTSTAMP:20260421T071912
CREATED:20250819T142801Z
LAST-MODIFIED:20250819T142801Z
UID:10002348-1764374400-1764547199@www.gaesdonck.de
SUMMARY:Internatswochenende
DESCRIPTION:
URL:https://www.gaesdonck.de/event/internatswochenende-13/
LOCATION:Die Gaesdonck\, Gaesdoncker Straße 220\, Goch\, 47574\, Germany
END:VEVENT
BEGIN:VEVENT
DTSTART;VALUE=DATE:20251129
DTEND;VALUE=DATE:20251130
DTSTAMP:20260421T071912
CREATED:20250819T150518Z
LAST-MODIFIED:20250819T150518Z
UID:10002374-1764374400-1764460799@www.gaesdonck.de
SUMMARY:Kinder College Auftaktveranstaltung
DESCRIPTION:
URL:https://www.gaesdonck.de/event/kinder-college-auftaktveranstaltung/
LOCATION:Die Gaesdonck\, Gaesdoncker Straße 220\, Goch\, 47574\, Germany
END:VEVENT
BEGIN:VEVENT
DTSTART;TZID=Europe/Berlin:20251128T140000
DTEND;TZID=Europe/Berlin:20251128T160000
DTSTAMP:20260421T071912
CREATED:20250904T130838Z
LAST-MODIFIED:20250904T130838Z
UID:10002390-1764338400-1764345600@www.gaesdonck.de
SUMMARY:Kunstschule "Forschen und Gestalten" sowie "Bildhauerei"
DESCRIPTION:
URL:https://www.gaesdonck.de/event/kunstschule-forschen-und-gestalten-sowie-bildhauerei-5/
LOCATION:Die Gaesdonck\, Gaesdoncker Straße 220\, Goch\, 47574\, Germany
END:VEVENT
BEGIN:VEVENT
DTSTART;TZID=Europe/Berlin:20251128T140000
DTEND;TZID=Europe/Berlin:20251128T153000
DTSTAMP:20260421T071912
CREATED:20250904T150633Z
LAST-MODIFIED:20250904T150633Z
UID:10002412-1764338400-1764343800@www.gaesdonck.de
SUMMARY:DPSG Truppstunde 5er bis 7er
DESCRIPTION:
URL:https://www.gaesdonck.de/event/dpsg-truppstunde-5er-bis-7er-4/
LOCATION:Die Gaesdonck\, Gaesdoncker Straße 220\, Goch\, 47574\, Germany
END:VEVENT
END:VCALENDAR